OziExplorer Map Data File Version 2.2
AltoDeLasPlumas
sk19-4.png
1 ,Map Code,
Pulkovo 1942 (1),, 0.0000, 0.0000,WGS 84
Reserved 1
Reserved 2
Magnetic Variation,,,E
Map Projection,Latitude/Longitude,PolyCal,Yes,AutoCalOnly,No,BSBUseWPX,No
Point01,xy, 97, 149,in, deg, 42, 0.0000,S, 69, 0.0000,W, grid, , , ,
Point02,xy, 2054, 145,in, deg, 42, 0.0000,S, 67, 30.0000,W, grid, , , ,
Point03,xy, 4004, 169,in, deg, 42, 0.0000,S, 66, 0.0000,W, grid, , , ,
Point04,xy, 127, 1901,in, deg, 43, 0.0000,S, 69, 0.0000,W, grid, , , ,
Point05,xy, 2050, 1894,in, deg, 43, 0.0000,S, 67, 30.0000,W, grid, , , ,
Point06,xy, 3970, 1923,in, deg, 43, 0.0000,S, 66, 0.0000,W, grid, , , ,
Point07,xy, 152, 3655,in, deg, 44, 0.0000,S, 69, 0.0000,W, grid, , , ,
Point08,xy, 2046, 3647,in, deg, 44, 0.0000,S, 67, 30.0000,W, grid, , , ,
Point09,xy, 3935, 3671,in, deg, 44, 0.0000,S, 66, 0.0000,W, grid, , , ,
Point10,xy, , ,in, deg, , ,, , ,, grid, , , ,
Point11,xy, , ,in, deg, , ,, , ,, grid, , , ,
Point12,xy, , ,in, deg, , ,, , ,, grid, , , ,
Point13,xy, , ,in, deg, , ,, , ,, grid, , , ,
Point14,xy, , ,in, deg, , ,, , ,, grid, , , ,
Point15,xy, , ,in, deg, , ,, , ,, grid, , , ,
Point16,xy, , ,in, deg, , ,, , ,, grid, , , ,
Point17,xy, , ,in, deg, , ,, , ,, grid, , , ,
Point18,xy, , ,in, deg, , ,, , ,, grid, , , ,
Point19,xy, , ,in, deg, , ,, , ,, grid, , , ,
Point20,xy, , ,in, deg, , ,, , ,, grid, , , ,
Point21,xy, , ,in, deg, , ,, , ,, grid, , , ,
Point22,xy, , ,in, deg, , ,, , ,, grid, , , ,
Point23,xy, , ,in, deg, , ,, , ,, grid, , , ,
Point24,xy, , ,in, deg, , ,, , ,, grid, , , ,
Point25,xy, , ,in, deg, , ,, , ,, grid, , , ,
Point26,xy, , ,in, deg, , ,, , ,, grid, , , ,
Point27,xy, , ,in, deg, , ,, , ,, grid, , , ,
Point28,xy, , ,in, deg, , ,, , ,, grid, , , ,
Point29,xy, , ,in, deg, , ,, , ,, grid, , , ,
Point30,xy, , ,in, deg, , ,, , ,, grid, , , ,
Projection Setup,,,,,,,,,,
Map Feature = MF ; Map Comment = MC These follow if they exist
Track File = TF These follow if they exist
Moving Map Parameters = MM? These follow if they exist
MM0,Yes
MMPNUM,4
MMPXY,1,0,0
MMPXY,2,4176,4
MMPXY,3,4087,4173
MMPXY,4,1,4155
MMPLL,1, -69.072782, -41.914377
MMPLL,2, -65.870191, -41.902806
MMPLL,3, -65.869877, -44.284298
MMPLL,4, -69.125924, -44.284465
MM1B,63.429175
MOP,Map Open Position,0,0
IWH,Map Image Width/Height,2500,1395
