OziExplorer Map Data File Version 2.2
Esquel
sk19-3.png
1 ,Map Code,
Pulkovo 1942 (1),, 0.0000, 0.0000,WGS 84
Reserved 1
Reserved 2
Magnetic Variation,,,E
Map Projection,Latitude/Longitude,PolyCal,Yes,AutoCalOnly,No,BSBUseWPX,No
Point01,xy, 97, 151,in, deg, 42, 0.0000,S, 72, 0.0000,W, grid, , , ,
Point02,xy, 2054, 145,in, deg, 42, 0.0000,S, 70, 30.0000,W, grid, , , ,
Point03,xy, 4005, 178,in, deg, 42, 0.0000,S, 69, 0.0000,W, grid, , , ,
Point04,xy, 119, 1905,in, deg, 43, 0.0000,S, 72, 0.0000,W, grid, , , ,
Point05,xy, 2047, 1901,in, deg, 43, 0.0000,S, 70, 30.0000,W, grid, , , ,
Point06,xy, 3967, 1931,in, deg, 43, 0.0000,S, 69, 0.0000,W, grid, , , ,
Point07,xy, 142, 3657,in, deg, 44, 0.0000,S, 72, 0.0000,W, grid, , , ,
Point08,xy, 2038, 3653,in, deg, 44, 0.0000,S, 70, 30.0000,W, grid, , , ,
Point09,xy, 3927, 3681,in, deg, 44, 0.0000,S, 69, 0.0000,W, grid, , , ,
Point10,xy, , ,in, deg, , ,, , ,, grid, , , ,
Point11,xy, , ,in, deg, , ,, , ,, grid, , , ,
Point12,xy, , ,in, deg, , ,, , ,, grid, , , ,
Point13,xy, , ,in, deg, , ,, , ,, grid, , , ,
Point14,xy, , ,in, deg, , ,, , ,, grid, , , ,
Point15,xy, , ,in, deg, , ,, , ,, grid, , , ,
Point16,xy, , ,in, deg, , ,, , ,, grid, , , ,
Point17,xy, , ,in, deg, , ,, , ,, grid, , , ,
Point18,xy, , ,in, deg, , ,, , ,, grid, , , ,
Point19,xy, , ,in, deg, , ,, , ,, grid, , , ,
Point20,xy, , ,in, deg, , ,, , ,, grid, , , ,
Point21,xy, , ,in, deg, , ,, , ,, grid, , , ,
Point22,xy, , ,in, deg, , ,, , ,, grid, , , ,
Point23,xy, , ,in, deg, , ,, , ,, grid, , , ,
Point24,xy, , ,in, deg, , ,, , ,, grid, , , ,
Point25,xy, , ,in, deg, , ,, , ,, grid, , , ,
Point26,xy, , ,in, deg, , ,, , ,, grid, , , ,
Point27,xy, , ,in, deg, , ,, , ,, grid, , , ,
Point28,xy, , ,in, deg, , ,, , ,, grid, , , ,
Point29,xy, , ,in, deg, , ,, , ,, grid, , , ,
Point30,xy, , ,in, deg, , ,, , ,, grid, , , ,
Projection Setup,,,,,,,,,,
Map Feature = MF ; Map Comment = MC These follow if they exist
Track File = TF These follow if they exist
Moving Map Parameters = MM? These follow if they exist
MM0,Yes
MMPNUM,4
MMPXY,1,0,0
MMPXY,2,4200,2
MMPXY,3,4100,4169
MMPXY,4,0,4142
MMPLL,1, -72.072209, -41.913862
MMPLL,2, -68.853062, -41.897250
MMPLL,3, -68.853105, -44.276015
MMPLL,4, -72.117099, -44.275786
MM1B,63.341555
MOP,Map Open Position,0,0
IWH,Map Image Width/Height,2500,1395
