OziExplorer Map Data File Version 2.2
Maquinchao
sk19-2.png
1 ,Map Code,
Pulkovo 1942 (1),, 0.0000, 0.0000,WGS 84
Reserved 1
Reserved 2
Magnetic Variation,,,E
Map Projection,Latitude/Longitude,PolyCal,Yes,AutoCalOnly,No,BSBUseWPX,No
Point01,xy, 115, 195,in, deg, 40, 0.0000,S, 69, 0.0000,W, grid, , , ,
Point02,xy, 2129, 158,in, deg, 40, 0.0000,S, 67, 30.0000,W, grid, , , ,
Point03,xy, 4137, 152,in, deg, 40, 0.0000,S, 66, 0.0000,W, grid, , , ,
Point04,xy, 168, 1946,in, deg, 41, 0.0000,S, 69, 0.0000,W, grid, , , ,
Point05,xy, 2152, 1910,in, deg, 41, 0.0000,S, 67, 30.0000,W, grid, , , ,
Point06,xy, 4130, 1904,in, deg, 41, 0.0000,S, 66, 0.0000,W, grid, , , ,
Point07,xy, 217, 3695,in, deg, 42, 0.0000,S, 69, 0.0000,W, grid, , , ,
Point08,xy, 2173, 3660,in, deg, 42, 0.0000,S, 67, 30.0000,W, grid, , , ,
Point09,xy, 4121, 3654,in, deg, 42, 0.0000,S, 66, 0.0000,W, grid, , , ,
Point10,xy, , ,in, deg, , ,, , ,, grid, , , ,
Point11,xy, , ,in, deg, , ,, , ,, grid, , , ,
Point12,xy, , ,in, deg, , ,, , ,, grid, , , ,
Point13,xy, , ,in, deg, , ,, , ,, grid, , , ,
Point14,xy, , ,in, deg, , ,, , ,, grid, , , ,
Point15,xy, , ,in, deg, , ,, , ,, grid, , , ,
Point16,xy, , ,in, deg, , ,, , ,, grid, , , ,
Point17,xy, , ,in, deg, , ,, , ,, grid, , , ,
Point18,xy, , ,in, deg, , ,, , ,, grid, , , ,
Point19,xy, , ,in, deg, , ,, , ,, grid, , , ,
Point20,xy, , ,in, deg, , ,, , ,, grid, , , ,
Point21,xy, , ,in, deg, , ,, , ,, grid, , , ,
Point22,xy, , ,in, deg, , ,, , ,, grid, , , ,
Point23,xy, , ,in, deg, , ,, , ,, grid, , , ,
Point24,xy, , ,in, deg, , ,, , ,, grid, , , ,
Point25,xy, , ,in, deg, , ,, , ,, grid, , , ,
Point26,xy, , ,in, deg, , ,, , ,, grid, , , ,
Point27,xy, , ,in, deg, , ,, , ,, grid, , , ,
Point28,xy, , ,in, deg, , ,, , ,, grid, , , ,
Point29,xy, , ,in, deg, , ,, , ,, grid, , , ,
Point30,xy, , ,in, deg, , ,, , ,, grid, , , ,
Projection Setup,,,,,,,,,,
Map Feature = MF ; Map Comment = MC These follow if they exist
Track File = TF These follow if they exist
Moving Map Parameters = MM? These follow if they exist
MM0,Yes
MMPNUM,4
MMPXY,1,0,3
MMPXY,2,4265,0
MMPXY,3,4241,4184
MMPXY,4,2,4230
MMPLL,1, -69.080946, -39.888911
MMPLL,2, -65.904432, -39.913057
MMPLL,3, -65.904513, -42.302573
MMPLL,4, -69.176878, -42.302477
MM1B,63.414190
MOP,Map Open Position,0,0
IWH,Map Image Width/Height,2500,1395
