OziExplorer Map Data File Version 2.2
SanCarlosDeBariloche
sk19-1.png
1 ,Map Code,
Pulkovo 1942 (1),, 0.0000, 0.0000,WGS 84
Reserved 1
Reserved 2
Magnetic Variation,,,E
Map Projection,Latitude/Longitude,PolyCal,Yes,AutoCalOnly,No,BSBUseWPX,No
Point01,xy, 121, 165,in, deg, 40, 0.0000,S, 72, 0.0000,W, grid, , , ,
Point02,xy, 2141, 148,in, deg, 40, 0.0000,S, 70, 30.0000,W, grid, , , ,
Point03,xy, 4151, 163,in, deg, 40, 0.0000,S, 69, 0.0000,W, grid, , , ,
Point04,xy, 159, 1917,in, deg, 41, 0.0000,S, 72, 0.0000,W, grid, , , ,
Point05,xy, 2149, 1900,in, deg, 41, 0.0000,S, 70, 30.0000,W, grid, , , ,
Point06,xy, 4131, 1912,in, deg, 41, 0.0000,S, 69, 0.0000,W, grid, , , ,
Point07,xy, 195, 3669,in, deg, 42, 0.0000,S, 72, 0.0000,W, grid, , , ,
Point08,xy, 2156, 3657,in, deg, 42, 0.0000,S, 70, 30.0000,W, grid, , , ,
Point09,xy, 4108, 3661,in, deg, 42, 0.0000,S, 69, 0.0000,W, grid, , , ,
Point10,xy, , ,in, deg, , ,, , ,, grid, , , ,
Point11,xy, , ,in, deg, , ,, , ,, grid, , , ,
Point12,xy, , ,in, deg, , ,, , ,, grid, , , ,
Point13,xy, , ,in, deg, , ,, , ,, grid, , , ,
Point14,xy, , ,in, deg, , ,, , ,, grid, , , ,
Point15,xy, , ,in, deg, , ,, , ,, grid, , , ,
Point16,xy, , ,in, deg, , ,, , ,, grid, , , ,
Point17,xy, , ,in, deg, , ,, , ,, grid, , , ,
Point18,xy, , ,in, deg, , ,, , ,, grid, , , ,
Point19,xy, , ,in, deg, , ,, , ,, grid, , , ,
Point20,xy, , ,in, deg, , ,, , ,, grid, , , ,
Point21,xy, , ,in, deg, , ,, , ,, grid, , , ,
Point22,xy, , ,in, deg, , ,, , ,, grid, , , ,
Point23,xy, , ,in, deg, , ,, , ,, grid, , , ,
Point24,xy, , ,in, deg, , ,, , ,, grid, , , ,
Point25,xy, , ,in, deg, , ,, , ,, grid, , , ,
Point26,xy, , ,in, deg, , ,, , ,, grid, , , ,
Point27,xy, , ,in, deg, , ,, , ,, grid, , , ,
Point28,xy, , ,in, deg, , ,, , ,, grid, , , ,
Point29,xy, , ,in, deg, , ,, , ,, grid, , , ,
Point30,xy, , ,in, deg, , ,, , ,, grid, , , ,
Projection Setup,,,,,,,,,,
Map Feature = MF ; Map Comment = MC These follow if they exist
Track File = TF These follow if they exist
Moving Map Parameters = MM? These follow if they exist
MM0,Yes
MMPNUM,4
MMPXY,1,0,0
MMPXY,2,4313,0
MMPXY,3,4256,4141
MMPXY,4,0,4151
MMPLL,1, -72.086870, -39.905501
MMPLL,2, -68.880564, -39.906209
MMPLL,3, -68.880569, -42.272006
MMPLL,4, -72.156530, -42.271823
MM1B,63.241912
MOP,Map Open Position,0,0
IWH,Map Image Width/Height,2500,1395
