OziExplorer Map Data File Version 2.2
Castro
sk18-4.png
1 ,Map Code,
Pulkovo 1942 (1),, 0.0000, 0.0000,WGS 84
Reserved 1
Reserved 2
Magnetic Variation,,,E
Map Projection,Latitude/Longitude,PolyCal,Yes,AutoCalOnly,No,BSBUseWPX,No
Point01,xy, 106, 163,in, deg, 42, 0.0000,S, 75, 0.0000,W, grid, , , ,
Point02,xy, 2064, 154,in, deg, 42, 0.0000,S, 73, 30.0000,W, grid, , , ,
Point03,xy, 4015, 178,in, deg, 42, 0.0000,S, 72, 0.0000,W, grid, , , ,
Point04,xy, 133, 1918,in, deg, 43, 0.0000,S, 75, 0.0000,W, grid, , , ,
Point05,xy, 2060, 1908,in, deg, 43, 0.0000,S, 73, 30.0000,W, grid, , , ,
Point06,xy, 3980, 1932,in, deg, 43, 0.0000,S, 72, 0.0000,W, grid, , , ,
Point07,xy, 159, 3669,in, deg, 44, 0.0000,S, 75, 0.0000,W, grid, , , ,
Point08,xy, 2055, 3665,in, deg, 44, 0.0000,S, 73, 30.0000,W, grid, , , ,
Point09,xy, 3945, 3684,in, deg, 44, 0.0000,S, 72, 0.0000,W, grid, , , ,
Point10,xy, , ,in, deg, , ,, , ,, grid, , , ,
Point11,xy, , ,in, deg, , ,, , ,, grid, , , ,
Point12,xy, , ,in, deg, , ,, , ,, grid, , , ,
Point13,xy, , ,in, deg, , ,, , ,, grid, , , ,
Point14,xy, , ,in, deg, , ,, , ,, grid, , , ,
Point15,xy, , ,in, deg, , ,, , ,, grid, , , ,
Point16,xy, , ,in, deg, , ,, , ,, grid, , , ,
Point17,xy, , ,in, deg, , ,, , ,, grid, , , ,
Point18,xy, , ,in, deg, , ,, , ,, grid, , , ,
Point19,xy, , ,in, deg, , ,, , ,, grid, , , ,
Point20,xy, , ,in, deg, , ,, , ,, grid, , , ,
Point21,xy, , ,in, deg, , ,, , ,, grid, , , ,
Point22,xy, , ,in, deg, , ,, , ,, grid, , , ,
Point23,xy, , ,in, deg, , ,, , ,, grid, , , ,
Point24,xy, , ,in, deg, , ,, , ,, grid, , , ,
Point25,xy, , ,in, deg, , ,, , ,, grid, , , ,
Point26,xy, , ,in, deg, , ,, , ,, grid, , , ,
Point27,xy, , ,in, deg, , ,, , ,, grid, , , ,
Point28,xy, , ,in, deg, , ,, , ,, grid, , , ,
Point29,xy, , ,in, deg, , ,, , ,, grid, , , ,
Point30,xy, , ,in, deg, , ,, , ,, grid, , , ,
Projection Setup,,,,,,,,,,
Map Feature = MF ; Map Comment = MC These follow if they exist
Track File = TF These follow if they exist
Moving Map Parameters = MM? These follow if they exist
MM0,Yes
MMPNUM,4
MMPXY,1,0,0
MMPXY,2,4195,1
MMPXY,3,4103,4264
MMPXY,4,0,4248
MMPLL,1, -75.079124, -41.906601
MMPLL,2, -71.864269, -41.897523
MMPLL,3, -71.864086, -44.328353
MMPLL,4, -75.132867, -44.328380
MM1B,63.335009
MOP,Map Open Position,0,0
IWH,Map Image Width/Height,2500,1395
