OziExplorer Map Data File Version 2.2
Osorno
sk18-2.png
1 ,Map Code,
Pulkovo 1942 (1),, 0.0000, 0.0000,WGS 84
Reserved 1
Reserved 2
Magnetic Variation,,,E
Map Projection,Latitude/Longitude,PolyCal,Yes,AutoCalOnly,No,BSBUseWPX,No
Point01,xy, 121, 161,in, deg, 40, 0.0000,S, 75, 0.0000,W, grid, , , ,
Point02,xy, 2136, 162,in, deg, 40, 0.0000,S, 73, 30.0000,W, grid, , , ,
Point03,xy, 4149, 197,in, deg, 40, 0.0000,S, 72, 0.0000,W, grid, , , ,
Point04,xy, 138, 1915,in, deg, 41, 0.0000,S, 75, 0.0000,W, grid, , , ,
Point05,xy, 2124, 1917,in, deg, 41, 0.0000,S, 73, 30.0000,W, grid, , , ,
Point06,xy, 4107, 1949,in, deg, 41, 0.0000,S, 72, 0.0000,W, grid, , , ,
Point07,xy, 157, 3666,in, deg, 42, 0.0000,S, 75, 0.0000,W, grid, , , ,
Point08,xy, 2112, 3669,in, deg, 42, 0.0000,S, 73, 30.0000,W, grid, , , ,
Point09,xy, 4063, 3702,in, deg, 42, 0.0000,S, 72, 0.0000,W, grid, , , ,
Point10,xy, , ,in, deg, , ,, , ,, grid, , , ,
Point11,xy, , ,in, deg, , ,, , ,, grid, , , ,
Point12,xy, , ,in, deg, , ,, , ,, grid, , , ,
Point13,xy, , ,in, deg, , ,, , ,, grid, , , ,
Point14,xy, , ,in, deg, , ,, , ,, grid, , , ,
Point15,xy, , ,in, deg, , ,, , ,, grid, , , ,
Point16,xy, , ,in, deg, , ,, , ,, grid, , , ,
Point17,xy, , ,in, deg, , ,, , ,, grid, , , ,
Point18,xy, , ,in, deg, , ,, , ,, grid, , , ,
Point19,xy, , ,in, deg, , ,, , ,, grid, , , ,
Point20,xy, , ,in, deg, , ,, , ,, grid, , , ,
Point21,xy, , ,in, deg, , ,, , ,, grid, , , ,
Point22,xy, , ,in, deg, , ,, , ,, grid, , , ,
Point23,xy, , ,in, deg, , ,, , ,, grid, , , ,
Point24,xy, , ,in, deg, , ,, , ,, grid, , , ,
Point25,xy, , ,in, deg, , ,, , ,, grid, , , ,
Point26,xy, , ,in, deg, , ,, , ,, grid, , , ,
Point27,xy, , ,in, deg, , ,, , ,, grid, , , ,
Point28,xy, , ,in, deg, , ,, , ,, grid, , , ,
Point29,xy, , ,in, deg, , ,, , ,, grid, , , ,
Point30,xy, , ,in, deg, , ,, , ,, grid, , , ,
Projection Setup,,,,,,,,,,
Map Feature = MF ; Map Comment = MC These follow if they exist
Track File = TF These follow if they exist
Moving Map Parameters = MM? These follow if they exist
MM0,Yes
MMPNUM,4
MMPXY,1,0,0
MMPXY,2,4360,1
MMPXY,3,4250,4195
MMPXY,4,0,4156
MMPLL,1, -75.088227, -39.907814
MMPLL,2, -71.846668, -39.885789
MMPLL,3, -71.846702, -42.278674
MMPLL,4, -75.124669, -42.278823
MM1B,63.462241
MOP,Map Open Position,0,0
IWH,Map Image Width/Height,2500,1395
