OziExplorer Map Data File Version 2.2
J21B
sj21-3.png
1 ,Map Code,
Pulkovo 1942 (1),, 0.0000, 0.0000,WGS 84
Reserved 1
Reserved 2
Magnetic Variation,,,E
Map Projection,Latitude/Longitude,PolyCal,Yes,AutoCalOnly,No,BSBUseWPX,No
Point01,xy, 96, 154,in, deg, 38, 0.0000,S, 60, 0.0000,W, grid, , , ,
Point02,xy, 2167, 145,in, deg, 38, 0.0000,S, 58, 30.0000,W, grid, , , ,
Point03,xy, 4237, 160,in, deg, 38, 0.0000,S, 57, 0.0000,W, grid, , , ,
Point04,xy, 127, 1908,in, deg, 39, 0.0000,S, 60, 0.0000,W, grid, , , ,
Point05,xy, 2171, 1894,in, deg, 39, 0.0000,S, 58, 30.0000,W, grid, , , ,
Point06,xy, 4215, 1908,in, deg, 39, 0.0000,S, 57, 0.0000,W, grid, , , ,
Point07,xy, 157, 3660,in, deg, 40, 0.0000,S, 60, 0.0000,W, grid, , , ,
Point08,xy, 2175, 3642,in, deg, 40, 0.0000,S, 58, 30.0000,W, grid, , , ,
Point09,xy, 4188, 3659,in, deg, 40, 0.0000,S, 57, 0.0000,W, grid, , , ,
Point10,xy, , ,in, deg, , ,, , ,, grid, , , ,
Point11,xy, , ,in, deg, , ,, , ,, grid, , , ,
Point12,xy, , ,in, deg, , ,, , ,, grid, , , ,
Point13,xy, , ,in, deg, , ,, , ,, grid, , , ,
Point14,xy, , ,in, deg, , ,, , ,, grid, , , ,
Point15,xy, , ,in, deg, , ,, , ,, grid, , , ,
Point16,xy, , ,in, deg, , ,, , ,, grid, , , ,
Point17,xy, , ,in, deg, , ,, , ,, grid, , , ,
Point18,xy, , ,in, deg, , ,, , ,, grid, , , ,
Point19,xy, , ,in, deg, , ,, , ,, grid, , , ,
Point20,xy, , ,in, deg, , ,, , ,, grid, , , ,
Point21,xy, , ,in, deg, , ,, , ,, grid, , , ,
Point22,xy, , ,in, deg, , ,, , ,, grid, , , ,
Point23,xy, , ,in, deg, , ,, , ,, grid, , , ,
Point24,xy, , ,in, deg, , ,, , ,, grid, , , ,
Point25,xy, , ,in, deg, , ,, , ,, grid, , , ,
Point26,xy, , ,in, deg, , ,, , ,, grid, , , ,
Point27,xy, , ,in, deg, , ,, , ,, grid, , , ,
Point28,xy, , ,in, deg, , ,, , ,, grid, , , ,
Point29,xy, , ,in, deg, , ,, , ,, grid, , , ,
Point30,xy, , ,in, deg, , ,, , ,, grid, , , ,
Projection Setup,,,,,,,,,,
Map Feature = MF ; Map Comment = MC These follow if they exist
Track File = TF These follow if they exist
Moving Map Parameters = MM? These follow if they exist
MM0,Yes
MMPNUM,4
MMPXY,1,0,0
MMPXY,2,4400,1
MMPXY,3,4337,4147
MMPXY,4,0,4150
MMPLL,1, -60.066900, -37.910706
MMPLL,2, -56.883560, -37.907372
MMPLL,3, -56.883703, -40.278620
MMPLL,4, -60.123208, -40.278519
MM1B,63.517679
MOP,Map Open Position,0,0
IWH,Map Image Width/Height,2500,1395
