OziExplorer Map Data File Version 2.2
J21-b
sj21-2.png
1 ,Map Code,
Pulkovo 1942 (1),, 0.0000, 0.0000,WGS 84
Reserved 1
Reserved 2
Magnetic Variation,,,E
Map Projection,Latitude/Longitude,PolyCal,Yes,AutoCalOnly,No,BSBUseWPX,No
Point01,xy, 116, 190,in, deg, 36, 0.0000,S, 57, 0.0000,W, grid, , , ,
Point02,xy, 2246, 181,in, deg, 36, 0.0000,S, 55, 30.0000,W, grid, , , ,
Point03,xy, 4371, 200,in, deg, 36, 0.0000,S, 54, 0.0000,W, grid, , , ,
Point04,xy, 143, 1942,in, deg, 37, 0.0000,S, 57, 0.0000,W, grid, , , ,
Point05,xy, 2246, 1931,in, deg, 37, 0.0000,S, 55, 30.0000,W, grid, , , ,
Point06,xy, 4341, 1954,in, deg, 37, 0.0000,S, 54, 0.0000,W, grid, , , ,
Point07,xy, 167, 3690,in, deg, 38, 0.0000,S, 57, 0.0000,W, grid, , , ,
Point08,xy, 2243, 3678,in, deg, 38, 0.0000,S, 55, 30.0000,W, grid, , , ,
Point09,xy, 4308, 3700,in, deg, 38, 0.0000,S, 54, 0.0000,W, grid, , , ,
Point10,xy, , ,in, deg, , ,, , ,, grid, , , ,
Point11,xy, , ,in, deg, , ,, , ,, grid, , , ,
Point12,xy, , ,in, deg, , ,, , ,, grid, , , ,
Point13,xy, , ,in, deg, , ,, , ,, grid, , , ,
Point14,xy, , ,in, deg, , ,, , ,, grid, , , ,
Point15,xy, , ,in, deg, , ,, , ,, grid, , , ,
Point16,xy, , ,in, deg, , ,, , ,, grid, , , ,
Point17,xy, , ,in, deg, , ,, , ,, grid, , , ,
Point18,xy, , ,in, deg, , ,, , ,, grid, , , ,
Point19,xy, , ,in, deg, , ,, , ,, grid, , , ,
Point20,xy, , ,in, deg, , ,, , ,, grid, , , ,
Point21,xy, , ,in, deg, , ,, , ,, grid, , , ,
Point22,xy, , ,in, deg, , ,, , ,, grid, , , ,
Point23,xy, , ,in, deg, , ,, , ,, grid, , , ,
Point24,xy, , ,in, deg, , ,, , ,, grid, , , ,
Point25,xy, , ,in, deg, , ,, , ,, grid, , , ,
Point26,xy, , ,in, deg, , ,, , ,, grid, , , ,
Point27,xy, , ,in, deg, , ,, , ,, grid, , , ,
Point28,xy, , ,in, deg, , ,, , ,, grid, , , ,
Point29,xy, , ,in, deg, , ,, , ,, grid, , , ,
Point30,xy, , ,in, deg, , ,, , ,, grid, , , ,
Projection Setup,,,,,,,,,,
Map Feature = MF ; Map Comment = MC These follow if they exist
Track File = TF These follow if they exist
Moving Map Parameters = MM? These follow if they exist
MM0,Yes
MMPNUM,4
MMPXY,1,0,0
MMPXY,2,4541,3
MMPXY,3,4461,4186
MMPXY,4,1,4175
MMPLL,1, -57.078767, -35.890711
MMPLL,2, -53.881755, -35.885432
MMPLL,3, -53.881688, -38.276955
MMPLL,4, -57.125132, -38.277170
MM1B,63.288112
MOP,Map Open Position,0,0
IWH,Map Image Width/Height,2500,1395
