OziExplorer Map Data File Version 2.2
J21A
sj21-1.png
1 ,Map Code,
Pulkovo 1942 (1),, 0.0000, 0.0000,WGS 84
Reserved 1
Reserved 2
Magnetic Variation,,,E
Map Projection,Latitude/Longitude,PolyCal,Yes,AutoCalOnly,No,BSBUseWPX,No
Point01,xy, 117, 172,in, deg, 36, 0.0000,S, 60, 0.0000,W, grid, , , ,
Point02,xy, 2246, 160,in, deg, 36, 0.0000,S, 58, 30.0000,W, grid, , , ,
Point03,xy, 4372, 175,in, deg, 36, 0.0000,S, 57, 0.0000,W, grid, , , ,
Point04,xy, 150, 1926,in, deg, 37, 0.0000,S, 60, 0.0000,W, grid, , , ,
Point05,xy, 2250, 1911,in, deg, 37, 0.0000,S, 58, 30.0000,W, grid, , , ,
Point06,xy, 4347, 1927,in, deg, 37, 0.0000,S, 57, 0.0000,W, grid, , , ,
Point07,xy, 177, 3675,in, deg, 38, 0.0000,S, 60, 0.0000,W, grid, , , ,
Point08,xy, 2253, 3662,in, deg, 38, 0.0000,S, 58, 30.0000,W, grid, , , ,
Point09,xy, 4321, 3677,in, deg, 38, 0.0000,S, 57, 0.0000,W, grid, , , ,
Point10,xy, , ,in, deg, , ,, , ,, grid, , , ,
Point11,xy, , ,in, deg, , ,, , ,, grid, , , ,
Point12,xy, , ,in, deg, , ,, , ,, grid, , , ,
Point13,xy, , ,in, deg, , ,, , ,, grid, , , ,
Point14,xy, , ,in, deg, , ,, , ,, grid, , , ,
Point15,xy, , ,in, deg, , ,, , ,, grid, , , ,
Point16,xy, , ,in, deg, , ,, , ,, grid, , , ,
Point17,xy, , ,in, deg, , ,, , ,, grid, , , ,
Point18,xy, , ,in, deg, , ,, , ,, grid, , , ,
Point19,xy, , ,in, deg, , ,, , ,, grid, , , ,
Point20,xy, , ,in, deg, , ,, , ,, grid, , , ,
Point21,xy, , ,in, deg, , ,, , ,, grid, , , ,
Point22,xy, , ,in, deg, , ,, , ,, grid, , , ,
Point23,xy, , ,in, deg, , ,, , ,, grid, , , ,
Point24,xy, , ,in, deg, , ,, , ,, grid, , , ,
Point25,xy, , ,in, deg, , ,, , ,, grid, , , ,
Point26,xy, , ,in, deg, , ,, , ,, grid, , , ,
Point27,xy, , ,in, deg, , ,, , ,, grid, , , ,
Point28,xy, , ,in, deg, , ,, , ,, grid, , , ,
Point29,xy, , ,in, deg, , ,, , ,, grid, , , ,
Point30,xy, , ,in, deg, , ,, , ,, grid, , , ,
Projection Setup,,,,,,,,,,
Map Feature = MF ; Map Comment = MC These follow if they exist
Track File = TF These follow if they exist
Moving Map Parameters = MM? These follow if they exist
MM0,Yes
MMPNUM,4
MMPXY,1,0,0
MMPXY,2,4532,1
MMPXY,3,4467,4158
MMPXY,4,3,4157
MMPLL,1, -60.079998, -35.900774
MMPLL,2, -56.888152, -35.899428
MMPLL,3, -56.888136, -38.273912
MMPLL,4, -60.132301, -38.273942
MM1B,63.388612
MOP,Map Open Position,0,0
IWH,Map Image Width/Height,2500,1395
