OziExplorer Map Data File Version 2.2
J20r
sj20-4.png
1 ,Map Code,
Pulkovo 1942 (1),, 0.0000, 0.0000,WGS 84
Reserved 1
Reserved 2
Magnetic Variation,,,E
Map Projection,Latitude/Longitude,PolyCal,Yes,AutoCalOnly,No,BSBUseWPX,No
Point01,xy, 98, 166,in, deg, 38, 0.0000,S, 63, 0.0000,W, grid, , , ,
Point02,xy, 2175, 147,in, deg, 38, 0.0000,S, 61, 30.0000,W, grid, , , ,
Point03,xy, 4245, 165,in, deg, 38, 0.0000,S, 60, 0.0000,W, grid, , , ,
Point04,xy, 132, 1914,in, deg, 39, 0.0000,S, 63, 0.0000,W, grid, , , ,
Point05,xy, 2178, 1895,in, deg, 39, 0.0000,S, 61, 30.0000,W, grid, , , ,
Point06,xy, 4220, 1915,in, deg, 39, 0.0000,S, 60, 0.0000,W, grid, , , ,
Point07,xy, 166, 3663,in, deg, 40, 0.0000,S, 63, 0.0000,W, grid, , , ,
Point08,xy, 2181, 3648,in, deg, 40, 0.0000,S, 61, 30.0000,W, grid, , , ,
Point09,xy, 4194, 3667,in, deg, 40, 0.0000,S, 60, 0.0000,W, grid, , , ,
Point10,xy, , ,in, deg, , ,, , ,, grid, , , ,
Point11,xy, , ,in, deg, , ,, , ,, grid, , , ,
Point12,xy, , ,in, deg, , ,, , ,, grid, , , ,
Point13,xy, , ,in, deg, , ,, , ,, grid, , , ,
Point14,xy, , ,in, deg, , ,, , ,, grid, , , ,
Point15,xy, , ,in, deg, , ,, , ,, grid, , , ,
Point16,xy, , ,in, deg, , ,, , ,, grid, , , ,
Point17,xy, , ,in, deg, , ,, , ,, grid, , , ,
Point18,xy, , ,in, deg, , ,, , ,, grid, , , ,
Point19,xy, , ,in, deg, , ,, , ,, grid, , , ,
Point20,xy, , ,in, deg, , ,, , ,, grid, , , ,
Point21,xy, , ,in, deg, , ,, , ,, grid, , , ,
Point22,xy, , ,in, deg, , ,, , ,, grid, , , ,
Point23,xy, , ,in, deg, , ,, , ,, grid, , , ,
Point24,xy, , ,in, deg, , ,, , ,, grid, , , ,
Point25,xy, , ,in, deg, , ,, , ,, grid, , , ,
Point26,xy, , ,in, deg, , ,, , ,, grid, , , ,
Point27,xy, , ,in, deg, , ,, , ,, grid, , , ,
Point28,xy, , ,in, deg, , ,, , ,, grid, , , ,
Point29,xy, , ,in, deg, , ,, , ,, grid, , , ,
Point30,xy, , ,in, deg, , ,, , ,, grid, , , ,
Projection Setup,,,,,,,,,,
Map Feature = MF ; Map Comment = MC These follow if they exist
Track File = TF These follow if they exist
Moving Map Parameters = MM? These follow if they exist
MM0,Yes
MMPNUM,4
MMPXY,1,0,2
MMPXY,2,4401,0
MMPXY,3,4335,4145
MMPXY,4,0,4141
MMPLL,1, -63.068583, -37.905052
MMPLL,2, -59.889219, -37.904134
MMPLL,3, -59.888770, -40.270569
MMPLL,4, -63.130203, -40.270781
MM1B,63.353691
MOP,Map Open Position,0,0
IWH,Map Image Width/Height,2500,1395
