OziExplorer Map Data File Version 2.2
J20B
sj20-3.png
1 ,Map Code,
Pulkovo 1942 (1),, 0.0000, 0.0000,WGS 84
Reserved 1
Reserved 2
Magnetic Variation,,,E
Map Projection,Latitude/Longitude,PolyCal,Yes,AutoCalOnly,No,BSBUseWPX,No
Point01,xy, 100, 192,in, deg, 38, 0.0000,S, 66, 0.0000,W, grid, , , ,
Point02,xy, 2174, 171,in, deg, 38, 0.0000,S, 64, 30.0000,W, grid, , , ,
Point03,xy, 4247, 173,in, deg, 38, 0.0000,S, 63, 0.0000,W, grid, , , ,
Point04,xy, 144, 1946,in, deg, 39, 0.0000,S, 66, 0.0000,W, grid, , , ,
Point05,xy, 2186, 1921,in, deg, 39, 0.0000,S, 64, 30.0000,W, grid, , , ,
Point06,xy, 4231, 1924,in, deg, 39, 0.0000,S, 63, 0.0000,W, grid, , , ,
Point07,xy, 185, 3700,in, deg, 40, 0.0000,S, 66, 0.0000,W, grid, , , ,
Point08,xy, 2200, 3670,in, deg, 40, 0.0000,S, 64, 30.0000,W, grid, , , ,
Point09,xy, 4212, 3672,in, deg, 40, 0.0000,S, 63, 0.0000,W, grid, , , ,
Point10,xy, , ,in, deg, , ,, , ,, grid, , , ,
Point11,xy, , ,in, deg, , ,, , ,, grid, , , ,
Point12,xy, , ,in, deg, , ,, , ,, grid, , , ,
Point13,xy, , ,in, deg, , ,, , ,, grid, , , ,
Point14,xy, , ,in, deg, , ,, , ,, grid, , , ,
Point15,xy, , ,in, deg, , ,, , ,, grid, , , ,
Point16,xy, , ,in, deg, , ,, , ,, grid, , , ,
Point17,xy, , ,in, deg, , ,, , ,, grid, , , ,
Point18,xy, , ,in, deg, , ,, , ,, grid, , , ,
Point19,xy, , ,in, deg, , ,, , ,, grid, , , ,
Point20,xy, , ,in, deg, , ,, , ,, grid, , , ,
Point21,xy, , ,in, deg, , ,, , ,, grid, , , ,
Point22,xy, , ,in, deg, , ,, , ,, grid, , , ,
Point23,xy, , ,in, deg, , ,, , ,, grid, , , ,
Point24,xy, , ,in, deg, , ,, , ,, grid, , , ,
Point25,xy, , ,in, deg, , ,, , ,, grid, , , ,
Point26,xy, , ,in, deg, , ,, , ,, grid, , , ,
Point27,xy, , ,in, deg, , ,, , ,, grid, , , ,
Point28,xy, , ,in, deg, , ,, , ,, grid, , , ,
Point29,xy, , ,in, deg, , ,, , ,, grid, , , ,
Point30,xy, , ,in, deg, , ,, , ,, grid, , , ,
Projection Setup,,,,,,,,,,
Map Feature = MF ; Map Comment = MC These follow if they exist
Track File = TF These follow if they exist
Moving Map Parameters = MM? These follow if they exist
MM0,Yes
MMPNUM,4
MMPXY,1,0,3
MMPXY,2,4387,0
MMPXY,3,4340,4143
MMPXY,4,2,4174
MMPLL,1, -66.068827, -37.891010
MMPLL,2, -62.900085, -37.899819
MMPLL,3, -62.900779, -40.269300
MMPLL,4, -66.145458, -40.268743
MM1B,63.470530
MOP,Map Open Position,0,0
IWH,Map Image Width/Height,2500,1395
