OziExplorer Map Data File Version 2.2
J20-b
sj20-2.png
1 ,Map Code,
Pulkovo 1942 (1),, 0.0000, 0.0000,WGS 84
Reserved 1
Reserved 2
Magnetic Variation,,,E
Map Projection,Latitude/Longitude,PolyCal,Yes,AutoCalOnly,No,BSBUseWPX,No
Point01,xy, 97, 170,in, deg, 36, 0.0000,S, 63, 0.0000,W, grid, , , ,
Point02,xy, 2226, 163,in, deg, 36, 0.0000,S, 61, 30.0000,W, grid, , , ,
Point03,xy, 4355, 178,in, deg, 36, 0.0000,S, 60, 0.0000,W, grid, , , ,
Point04,xy, 126, 1922,in, deg, 37, 0.0000,S, 63, 0.0000,W, grid, , , ,
Point05,xy, 2225, 1915,in, deg, 37, 0.0000,S, 61, 30.0000,W, grid, , , ,
Point06,xy, 4325, 1934,in, deg, 37, 0.0000,S, 60, 0.0000,W, grid, , , ,
Point07,xy, 150, 3673,in, deg, 38, 0.0000,S, 63, 0.0000,W, grid, , , ,
Point08,xy, 2226, 3664,in, deg, 38, 0.0000,S, 61, 30.0000,W, grid, , , ,
Point09,xy, 4296, 3680,in, deg, 38, 0.0000,S, 60, 0.0000,W, grid, , , ,
Point10,xy, , ,in, deg, , ,, , ,, grid, , , ,
Point11,xy, , ,in, deg, , ,, , ,, grid, , , ,
Point12,xy, , ,in, deg, , ,, , ,, grid, , , ,
Point13,xy, , ,in, deg, , ,, , ,, grid, , , ,
Point14,xy, , ,in, deg, , ,, , ,, grid, , , ,
Point15,xy, , ,in, deg, , ,, , ,, grid, , , ,
Point16,xy, , ,in, deg, , ,, , ,, grid, , , ,
Point17,xy, , ,in, deg, , ,, , ,, grid, , , ,
Point18,xy, , ,in, deg, , ,, , ,, grid, , , ,
Point19,xy, , ,in, deg, , ,, , ,, grid, , , ,
Point20,xy, , ,in, deg, , ,, , ,, grid, , , ,
Point21,xy, , ,in, deg, , ,, , ,, grid, , , ,
Point22,xy, , ,in, deg, , ,, , ,, grid, , , ,
Point23,xy, , ,in, deg, , ,, , ,, grid, , , ,
Point24,xy, , ,in, deg, , ,, , ,, grid, , , ,
Point25,xy, , ,in, deg, , ,, , ,, grid, , , ,
Point26,xy, , ,in, deg, , ,, , ,, grid, , , ,
Point27,xy, , ,in, deg, , ,, , ,, grid, , , ,
Point28,xy, , ,in, deg, , ,, , ,, grid, , , ,
Point29,xy, , ,in, deg, , ,, , ,, grid, , , ,
Point30,xy, , ,in, deg, , ,, , ,, grid, , , ,
Projection Setup,,,,,,,,,,
Map Feature = MF ; Map Comment = MC These follow if they exist
Track File = TF These follow if they exist
Moving Map Parameters = MM? These follow if they exist
MM0,Yes
MMPNUM,4
MMPXY,1,0,0
MMPXY,2,4524,3
MMPXY,3,4450,4150
MMPXY,4,3,4141
MMPLL,1, -63.066481, -35.902895
MMPLL,2, -59.882443, -35.898331
MMPLL,3, -59.882415, -38.267581
MMPLL,4, -63.112675, -38.267635
MM1B,63.453997
MOP,Map Open Position,0,0
IWH,Map Image Width/Height,2500,1395
