OziExplorer Map Data File Version 2.2
J20A
sj20-1.png
1 ,Map Code,
Pulkovo 1942 (1),, 0.0000, 0.0000,WGS 84
Reserved 1
Reserved 2
Magnetic Variation,,,E
Map Projection,Latitude/Longitude,PolyCal,Yes,AutoCalOnly,No,BSBUseWPX,No
Point01,xy, 97, 172,in, deg, 36, 0.0000,S, 66, 0.0000,W, grid, , , ,
Point02,xy, 2226, 160,in, deg, 36, 0.0000,S, 64, 30.0000,W, grid, , , ,
Point03,xy, 4350, 178,in, deg, 36, 0.0000,S, 63, 0.0000,W, grid, , , ,
Point04,xy, 128, 1922,in, deg, 37, 0.0000,S, 66, 0.0000,W, grid, , , ,
Point05,xy, 2227, 1909,in, deg, 37, 0.0000,S, 64, 30.0000,W, grid, , , ,
Point06,xy, 4324, 1925,in, deg, 37, 0.0000,S, 63, 0.0000,W, grid, , , ,
Point07,xy, 159, 3669,in, deg, 38, 0.0000,S, 66, 0.0000,W, grid, , , ,
Point08,xy, 2232, 3654,in, deg, 38, 0.0000,S, 64, 30.0000,W, grid, , , ,
Point09,xy, 4298, 3670,in, deg, 38, 0.0000,S, 63, 0.0000,W, grid, , , ,
Point10,xy, , ,in, deg, , ,, , ,, grid, , , ,
Point11,xy, , ,in, deg, , ,, , ,, grid, , , ,
Point12,xy, , ,in, deg, , ,, , ,, grid, , , ,
Point13,xy, , ,in, deg, , ,, , ,, grid, , , ,
Point14,xy, , ,in, deg, , ,, , ,, grid, , , ,
Point15,xy, , ,in, deg, , ,, , ,, grid, , , ,
Point16,xy, , ,in, deg, , ,, , ,, grid, , , ,
Point17,xy, , ,in, deg, , ,, , ,, grid, , , ,
Point18,xy, , ,in, deg, , ,, , ,, grid, , , ,
Point19,xy, , ,in, deg, , ,, , ,, grid, , , ,
Point20,xy, , ,in, deg, , ,, , ,, grid, , , ,
Point21,xy, , ,in, deg, , ,, , ,, grid, , , ,
Point22,xy, , ,in, deg, , ,, , ,, grid, , , ,
Point23,xy, , ,in, deg, , ,, , ,, grid, , , ,
Point24,xy, , ,in, deg, , ,, , ,, grid, , , ,
Point25,xy, , ,in, deg, , ,, , ,, grid, , , ,
Point26,xy, , ,in, deg, , ,, , ,, grid, , , ,
Point27,xy, , ,in, deg, , ,, , ,, grid, , , ,
Point28,xy, , ,in, deg, , ,, , ,, grid, , , ,
Point29,xy, , ,in, deg, , ,, , ,, grid, , , ,
Point30,xy, , ,in, deg, , ,, , ,, grid, , , ,
Projection Setup,,,,,,,,,,
Map Feature = MF ; Map Comment = MC These follow if they exist
Track File = TF These follow if they exist
Moving Map Parameters = MM? These follow if they exist
MM0,Yes
MMPNUM,4
MMPXY,1,0,0
MMPXY,2,4516,1
MMPXY,3,4449,4151
MMPXY,4,1,4151
MMPLL,1, -66.066148, -35.901059
MMPLL,2, -62.884813, -35.897350
MMPLL,3, -62.885289, -38.274813
MMPLL,4, -66.121488, -38.274820
MM1B,63.406945
MOP,Map Open Position,0,0
IWH,Map Image Width/Height,2500,1395
