OziExplorer Map Data File Version 2.2
J19r
sj19-4.png
1 ,Map Code,
Pulkovo 1942 (1),, 0.0000, 0.0000,WGS 84
Reserved 1
Reserved 2
Magnetic Variation,,,E
Map Projection,Latitude/Longitude,PolyCal,Yes,AutoCalOnly,No,BSBUseWPX,No
Point01,xy, 115, 163,in, deg, 38, 0.0000,S, 69, 0.0000,W, grid, , , ,
Point02,xy, 2190, 144,in, deg, 38, 0.0000,S, 67, 30.0000,W, grid, , , ,
Point03,xy, 4260, 151,in, deg, 38, 0.0000,S, 66, 0.0000,W, grid, , , ,
Point04,xy, 155, 1913,in, deg, 39, 0.0000,S, 69, 0.0000,W, grid, , , ,
Point05,xy, 2202, 1891,in, deg, 39, 0.0000,S, 67, 30.0000,W, grid, , , ,
Point06,xy, 4241, 1899,in, deg, 39, 0.0000,S, 66, 0.0000,W, grid, , , ,
Point07,xy, 193, 3660,in, deg, 40, 0.0000,S, 69, 0.0000,W, grid, , , ,
Point08,xy, 2210, 3638,in, deg, 40, 0.0000,S, 67, 30.0000,W, grid, , , ,
Point09,xy, 4220, 3650,in, deg, 40, 0.0000,S, 66, 0.0000,W, grid, , , ,
Point10,xy, , ,in, deg, , ,, , ,, grid, , , ,
Point11,xy, , ,in, deg, , ,, , ,, grid, , , ,
Point12,xy, , ,in, deg, , ,, , ,, grid, , , ,
Point13,xy, , ,in, deg, , ,, , ,, grid, , , ,
Point14,xy, , ,in, deg, , ,, , ,, grid, , , ,
Point15,xy, , ,in, deg, , ,, , ,, grid, , , ,
Point16,xy, , ,in, deg, , ,, , ,, grid, , , ,
Point17,xy, , ,in, deg, , ,, , ,, grid, , , ,
Point18,xy, , ,in, deg, , ,, , ,, grid, , , ,
Point19,xy, , ,in, deg, , ,, , ,, grid, , , ,
Point20,xy, , ,in, deg, , ,, , ,, grid, , , ,
Point21,xy, , ,in, deg, , ,, , ,, grid, , , ,
Point22,xy, , ,in, deg, , ,, , ,, grid, , , ,
Point23,xy, , ,in, deg, , ,, , ,, grid, , , ,
Point24,xy, , ,in, deg, , ,, , ,, grid, , , ,
Point25,xy, , ,in, deg, , ,, , ,, grid, , , ,
Point26,xy, , ,in, deg, , ,, , ,, grid, , , ,
Point27,xy, , ,in, deg, , ,, , ,, grid, , , ,
Point28,xy, , ,in, deg, , ,, , ,, grid, , , ,
Point29,xy, , ,in, deg, , ,, , ,, grid, , , ,
Point30,xy, , ,in, deg, , ,, , ,, grid, , , ,
Projection Setup,,,,,,,,,,
Map Feature = MF ; Map Comment = MC These follow if they exist
Track File = TF These follow if they exist
Moving Map Parameters = MM? These follow if they exist
MM0,Yes
MMPNUM,4
MMPXY,1,0,4
MMPXY,2,4390,0
MMPXY,3,4339,4107
MMPXY,4,0,4120
MMPLL,1, -69.079846, -37.907225
MMPLL,2, -65.906593, -37.912693
MMPLL,3, -65.906267, -40.261071
MMPLL,4, -69.150907, -40.261156
MM1B,63.310238
MOP,Map Open Position,0,0
IWH,Map Image Width/Height,2500,1395
