OziExplorer Map Data File Version 2.2
J19B
sj19-3.png
1 ,Map Code,
Pulkovo 1942 (1),, 0.0000, 0.0000,WGS 84
Reserved 1
Reserved 2
Magnetic Variation,,,E
Map Projection,Latitude/Longitude,PolyCal,Yes,AutoCalOnly,No,BSBUseWPX,No
Point01,xy, 73, 110,in, deg, 38, 0.0000,S, 72, 0.0000,W, grid, , , ,
Point02,xy, 1631, 117,in, deg, 38, 0.0000,S, 70, 30.0000,W, grid, , , ,
Point03,xy, 3181, 146,in, deg, 38, 0.0000,S, 69, 0.0000,W, grid, , , ,
Point04,xy, 84, 1424,in, deg, 39, 0.0000,S, 72, 0.0000,W, grid, , , ,
Point05,xy, 1619, 1432,in, deg, 39, 0.0000,S, 70, 30.0000,W, grid, , , ,
Point06,xy, 3150, 1458,in, deg, 39, 0.0000,S, 69, 0.0000,W, grid, , , ,
Point07,xy, 95, 2737,in, deg, 40, 0.0000,S, 72, 0.0000,W, grid, , , ,
Point08,xy, 1610, 2744,in, deg, 40, 0.0000,S, 70, 30.0000,W, grid, , , ,
Point09,xy, 3117, 2769,in, deg, 40, 0.0000,S, 69, 0.0000,W, grid, , , ,
Point10,xy, , ,in, deg, , ,, , ,, grid, , , ,
Point11,xy, , ,in, deg, , ,, , ,, grid, , , ,
Point12,xy, , ,in, deg, , ,, , ,, grid, , , ,
Point13,xy, , ,in, deg, , ,, , ,, grid, , , ,
Point14,xy, , ,in, deg, , ,, , ,, grid, , , ,
Point15,xy, , ,in, deg, , ,, , ,, grid, , , ,
Point16,xy, , ,in, deg, , ,, , ,, grid, , , ,
Point17,xy, , ,in, deg, , ,, , ,, grid, , , ,
Point18,xy, , ,in, deg, , ,, , ,, grid, , , ,
Point19,xy, , ,in, deg, , ,, , ,, grid, , , ,
Point20,xy, , ,in, deg, , ,, , ,, grid, , , ,
Point21,xy, , ,in, deg, , ,, , ,, grid, , , ,
Point22,xy, , ,in, deg, , ,, , ,, grid, , , ,
Point23,xy, , ,in, deg, , ,, , ,, grid, , , ,
Point24,xy, , ,in, deg, , ,, , ,, grid, , , ,
Point25,xy, , ,in, deg, , ,, , ,, grid, , , ,
Point26,xy, , ,in, deg, , ,, , ,, grid, , , ,
Point27,xy, , ,in, deg, , ,, , ,, grid, , , ,
Point28,xy, , ,in, deg, , ,, , ,, grid, , , ,
Point29,xy, , ,in, deg, , ,, , ,, grid, , , ,
Point30,xy, , ,in, deg, , ,, , ,, grid, , , ,
Projection Setup,,,,,,,,,,
Map Feature = MF ; Map Comment = MC These follow if they exist
Track File = TF These follow if they exist
Moving Map Parameters = MM? These follow if they exist
MM0,Yes
MMPNUM,4
MMPXY,1,0,0
MMPXY,2,3312,1
MMPXY,3,3238,2865
MMPXY,4,0,2830
MMPLL,1, -72.069269, -37.916664
MMPLL,2, -68.877094, -37.887569
MMPLL,3, -68.877367, -40.070857
MMPLL,4, -72.094811, -40.070516
MM1B,84.368787
MOP,Map Open Position,0,0
IWH,Map Image Width/Height,2500,1395
