OziExplorer Map Data File Version 2.2
J19-b
sj19-2.png
1 ,Map Code,
Pulkovo 1942 (1),, 0.0000, 0.0000,WGS 84
Reserved 1
Reserved 2
Magnetic Variation,,,E
Map Projection,Latitude/Longitude,PolyCal,Yes,AutoCalOnly,No,BSBUseWPX,No
Point01,xy, 101, 146,in, deg, 36, 0.0000,S, 69, 0.0000,W, grid, , , ,
Point02,xy, 2238, 147,in, deg, 36, 0.0000,S, 67, 30.0000,W, grid, , , ,
Point03,xy, 4372, 169,in, deg, 36, 0.0000,S, 66, 0.0000,W, grid, , , ,
Point04,xy, 124, 1900,in, deg, 37, 0.0000,S, 69, 0.0000,W, grid, , , ,
Point05,xy, 2233, 1896,in, deg, 37, 0.0000,S, 67, 30.0000,W, grid, , , ,
Point06,xy, 4339, 1920,in, deg, 37, 0.0000,S, 66, 0.0000,W, grid, , , ,
Point07,xy, 147, 3648,in, deg, 38, 0.0000,S, 69, 0.0000,W, grid, , , ,
Point08,xy, 2227, 3647,in, deg, 38, 0.0000,S, 67, 30.0000,W, grid, , , ,
Point09,xy, 4303, 3670,in, deg, 38, 0.0000,S, 66, 0.0000,W, grid, , , ,
Point10,xy, , ,in, deg, , ,, , ,, grid, , , ,
Point11,xy, , ,in, deg, , ,, , ,, grid, , , ,
Point12,xy, , ,in, deg, , ,, , ,, grid, , , ,
Point13,xy, , ,in, deg, , ,, , ,, grid, , , ,
Point14,xy, , ,in, deg, , ,, , ,, grid, , , ,
Point15,xy, , ,in, deg, , ,, , ,, grid, , , ,
Point16,xy, , ,in, deg, , ,, , ,, grid, , , ,
Point17,xy, , ,in, deg, , ,, , ,, grid, , , ,
Point18,xy, , ,in, deg, , ,, , ,, grid, , , ,
Point19,xy, , ,in, deg, , ,, , ,, grid, , , ,
Point20,xy, , ,in, deg, , ,, , ,, grid, , , ,
Point21,xy, , ,in, deg, , ,, , ,, grid, , , ,
Point22,xy, , ,in, deg, , ,, , ,, grid, , , ,
Point23,xy, , ,in, deg, , ,, , ,, grid, , , ,
Point24,xy, , ,in, deg, , ,, , ,, grid, , , ,
Point25,xy, , ,in, deg, , ,, , ,, grid, , , ,
Point26,xy, , ,in, deg, , ,, , ,, grid, , , ,
Point27,xy, , ,in, deg, , ,, , ,, grid, , , ,
Point28,xy, , ,in, deg, , ,, , ,, grid, , , ,
Point29,xy, , ,in, deg, , ,, , ,, grid, , , ,
Point30,xy, , ,in, deg, , ,, , ,, grid, , , ,
Projection Setup,,,,,,,,,,
Map Feature = MF ; Map Comment = MC These follow if they exist
Track File = TF These follow if they exist
Moving Map Parameters = MM? These follow if they exist
MM0,Yes
MMPNUM,4
MMPXY,1,0,0
MMPXY,2,4542,2
MMPXY,3,4454,4146
MMPXY,4,0,4123
MMPLL,1, -69.069084, -35.915773
MMPLL,2, -65.882953, -35.902980
MMPLL,3, -65.883620, -38.270874
MMPLL,4, -69.110443, -38.270717
MM1B,63.191957
MOP,Map Open Position,0,0
IWH,Map Image Width/Height,2500,1395
