OziExplorer Map Data File Version 2.2
J19A
sj19-1.png
1 ,Map Code,
Pulkovo 1942 (1),, 0.0000, 0.0000,WGS 84
Reserved 1
Reserved 2
Magnetic Variation,,,E
Map Projection,Latitude/Longitude,PolyCal,Yes,AutoCalOnly,No,BSBUseWPX,No
Point01,xy, 76, 113,in, deg, 36, 0.0000,S, 72, 0.0000,W, grid, , , ,
Point02,xy, 1673, 105,in, deg, 36, 0.0000,S, 70, 30.0000,W, grid, , , ,
Point03,xy, 3265, 120,in, deg, 36, 0.0000,S, 69, 0.0000,W, grid, , , ,
Point04,xy, 96, 1430,in, deg, 37, 0.0000,S, 72, 0.0000,W, grid, , , ,
Point05,xy, 1674, 1418,in, deg, 37, 0.0000,S, 70, 30.0000,W, grid, , , ,
Point06,xy, 3247, 1431,in, deg, 37, 0.0000,S, 69, 0.0000,W, grid, , , ,
Point07,xy, 119, 2742,in, deg, 38, 0.0000,S, 72, 0.0000,W, grid, , , ,
Point08,xy, 1674, 2730,in, deg, 38, 0.0000,S, 70, 30.0000,W, grid, , , ,
Point09,xy, 3228, 2743,in, deg, 38, 0.0000,S, 69, 0.0000,W, grid, , , ,
Point10,xy, , ,in, deg, , ,, , ,, grid, , , ,
Point11,xy, , ,in, deg, , ,, , ,, grid, , , ,
Point12,xy, , ,in, deg, , ,, , ,, grid, , , ,
Point13,xy, , ,in, deg, , ,, , ,, grid, , , ,
Point14,xy, , ,in, deg, , ,, , ,, grid, , , ,
Point15,xy, , ,in, deg, , ,, , ,, grid, , , ,
Point16,xy, , ,in, deg, , ,, , ,, grid, , , ,
Point17,xy, , ,in, deg, , ,, , ,, grid, , , ,
Point18,xy, , ,in, deg, , ,, , ,, grid, , , ,
Point19,xy, , ,in, deg, , ,, , ,, grid, , , ,
Point20,xy, , ,in, deg, , ,, , ,, grid, , , ,
Point21,xy, , ,in, deg, , ,, , ,, grid, , , ,
Point22,xy, , ,in, deg, , ,, , ,, grid, , , ,
Point23,xy, , ,in, deg, , ,, , ,, grid, , , ,
Point24,xy, , ,in, deg, , ,, , ,, grid, , , ,
Point25,xy, , ,in, deg, , ,, , ,, grid, , , ,
Point26,xy, , ,in, deg, , ,, , ,, grid, , , ,
Point27,xy, , ,in, deg, , ,, , ,, grid, , , ,
Point28,xy, , ,in, deg, , ,, , ,, grid, , , ,
Point29,xy, , ,in, deg, , ,, , ,, grid, , , ,
Point30,xy, , ,in, deg, , ,, , ,, grid, , , ,
Projection Setup,,,,,,,,,,
Map Feature = MF ; Map Comment = MC These follow if they exist
Track File = TF These follow if they exist
Moving Map Parameters = MM? These follow if they exist
MM0,Yes
MMPNUM,4
MMPXY,1,0,0
MMPXY,2,3388,0
MMPXY,3,3340,3087
MMPXY,4,0,3088
MMPLL,1, -72.069430, -35.912824
MMPLL,2, -68.886372, -35.907185
MMPLL,3, -68.886522, -38.261737
MMPLL,4, -72.119603, -38.261772
MM1B,84.547016
MOP,Map Open Position,0,0
IWH,Map Image Width/Height,2500,1395
