OziExplorer Map Data File Version 2.2
J18r
sj18-4.png
1 ,Map Code,
Pulkovo 1942 (1),, 0.0000, 0.0000,WGS 84
Reserved 1
Reserved 2
Magnetic Variation,,,E
Map Projection,Latitude/Longitude,PolyCal,Yes,AutoCalOnly,No,BSBUseWPX,No
Point01,xy, 91, 154,in, deg, 38, 0.0000,S, 75, 0.0000,W, grid, , , ,
Point02,xy, 2164, 143,in, deg, 38, 0.0000,S, 73, 30.0000,W, grid, , , ,
Point03,xy, 4235, 157,in, deg, 38, 0.0000,S, 72, 0.0000,W, grid, , , ,
Point04,xy, 122, 1906,in, deg, 39, 0.0000,S, 75, 0.0000,W, grid, , , ,
Point05,xy, 2166, 1894,in, deg, 39, 0.0000,S, 73, 30.0000,W, grid, , , ,
Point06,xy, 4209, 1908,in, deg, 39, 0.0000,S, 72, 0.0000,W, grid, , , ,
Point07,xy, 153, 3655,in, deg, 40, 0.0000,S, 75, 0.0000,W, grid, , , ,
Point08,xy, 2170, 3644,in, deg, 40, 0.0000,S, 73, 30.0000,W, grid, , , ,
Point09,xy, 4184, 3660,in, deg, 40, 0.0000,S, 72, 0.0000,W, grid, , , ,
Point10,xy, , ,in, deg, , ,, , ,, grid, , , ,
Point11,xy, , ,in, deg, , ,, , ,, grid, , , ,
Point12,xy, , ,in, deg, , ,, , ,, grid, , , ,
Point13,xy, , ,in, deg, , ,, , ,, grid, , , ,
Point14,xy, , ,in, deg, , ,, , ,, grid, , , ,
Point15,xy, , ,in, deg, , ,, , ,, grid, , , ,
Point16,xy, , ,in, deg, , ,, , ,, grid, , , ,
Point17,xy, , ,in, deg, , ,, , ,, grid, , , ,
Point18,xy, , ,in, deg, , ,, , ,, grid, , , ,
Point19,xy, , ,in, deg, , ,, , ,, grid, , , ,
Point20,xy, , ,in, deg, , ,, , ,, grid, , , ,
Point21,xy, , ,in, deg, , ,, , ,, grid, , , ,
Point22,xy, , ,in, deg, , ,, , ,, grid, , , ,
Point23,xy, , ,in, deg, , ,, , ,, grid, , , ,
Point24,xy, , ,in, deg, , ,, , ,, grid, , , ,
Point25,xy, , ,in, deg, , ,, , ,, grid, , , ,
Point26,xy, , ,in, deg, , ,, , ,, grid, , , ,
Point27,xy, , ,in, deg, , ,, , ,, grid, , , ,
Point28,xy, , ,in, deg, , ,, , ,, grid, , , ,
Point29,xy, , ,in, deg, , ,, , ,, grid, , , ,
Point30,xy, , ,in, deg, , ,, , ,, grid, , , ,
Projection Setup,,,,,,,,,,
Map Feature = MF ; Map Comment = MC These follow if they exist
Track File = TF These follow if they exist
Moving Map Parameters = MM? These follow if they exist
MM0,Yes
MMPNUM,4
MMPXY,1,0,0
MMPXY,2,4364,0
MMPXY,3,4306,3743
MMPXY,4,0,3739
MMPLL,1, -75.063869, -37.911165
MMPLL,2, -71.908303, -37.909529
MMPLL,3, -71.908260, -40.046693
MMPLL,4, -75.115135, -40.046835
MM1B,63.489281
MOP,Map Open Position,0,0
IWH,Map Image Width/Height,2500,1395
