OziExplorer Map Data File Version 2.2
J18-b
sj18-2.png
1 ,Map Code,
Pulkovo 1942 (1),, 0.0000, 0.0000,WGS 84
Reserved 1
Reserved 2
Magnetic Variation,,,E
Map Projection,Latitude/Longitude,PolyCal,Yes,AutoCalOnly,No,BSBUseWPX,No
Point01,xy, 76, 122,in, deg, 36, 0.0000,S, 75, 0.0000,W, grid, , , ,
Point02,xy, 1682, 111,in, deg, 36, 0.0000,S, 73, 30.0000,W, grid, , , ,
Point03,xy, 3282, 122,in, deg, 36, 0.0000,S, 72, 0.0000,W, grid, , , ,
Point04,xy, 100, 1433,in, deg, 37, 0.0000,S, 75, 0.0000,W, grid, , , ,
Point05,xy, 1683, 1423,in, deg, 37, 0.0000,S, 73, 30.0000,W, grid, , , ,
Point06,xy, 3264, 1434,in, deg, 37, 0.0000,S, 72, 0.0000,W, grid, , , ,
Point07,xy, 125, 2744,in, deg, 38, 0.0000,S, 75, 0.0000,W, grid, , , ,
Point08,xy, 1687, 2734,in, deg, 38, 0.0000,S, 73, 30.0000,W, grid, , , ,
Point09,xy, 3247, 2746,in, deg, 38, 0.0000,S, 72, 0.0000,W, grid, , , ,
Point10,xy, , ,in, deg, , ,, , ,, grid, , , ,
Point11,xy, , ,in, deg, , ,, , ,, grid, , , ,
Point12,xy, , ,in, deg, , ,, , ,, grid, , , ,
Point13,xy, , ,in, deg, , ,, , ,, grid, , , ,
Point14,xy, , ,in, deg, , ,, , ,, grid, , , ,
Point15,xy, , ,in, deg, , ,, , ,, grid, , , ,
Point16,xy, , ,in, deg, , ,, , ,, grid, , , ,
Point17,xy, , ,in, deg, , ,, , ,, grid, , , ,
Point18,xy, , ,in, deg, , ,, , ,, grid, , , ,
Point19,xy, , ,in, deg, , ,, , ,, grid, , , ,
Point20,xy, , ,in, deg, , ,, , ,, grid, , , ,
Point21,xy, , ,in, deg, , ,, , ,, grid, , , ,
Point22,xy, , ,in, deg, , ,, , ,, grid, , , ,
Point23,xy, , ,in, deg, , ,, , ,, grid, , , ,
Point24,xy, , ,in, deg, , ,, , ,, grid, , , ,
Point25,xy, , ,in, deg, , ,, , ,, grid, , , ,
Point26,xy, , ,in, deg, , ,, , ,, grid, , , ,
Point27,xy, , ,in, deg, , ,, , ,, grid, , , ,
Point28,xy, , ,in, deg, , ,, , ,, grid, , , ,
Point29,xy, , ,in, deg, , ,, , ,, grid, , , ,
Point30,xy, , ,in, deg, , ,, , ,, grid, , , ,
Projection Setup,,,,,,,,,,
Map Feature = MF ; Map Comment = MC These follow if they exist
Track File = TF These follow if they exist
Moving Map Parameters = MM? These follow if they exist
MM0,Yes
MMPNUM,4
MMPXY,1,0,1
MMPXY,2,3396,0
MMPXY,3,3351,3104
MMPXY,4,0,3102
MMPLL,1, -75.069349, -35.906988
MMPLL,2, -71.895369, -35.905890
MMPLL,3, -71.895073, -38.271731
MMPLL,4, -75.126890, -38.271811
MM1B,84.143112
MOP,Map Open Position,0,0
IWH,Map Image Width/Height,2500,1395
