OziExplorer Map Data File Version 2.2
I22B
si22-3.png
1 ,Map Code,
Pulkovo 1942 (1),, 0.0000, 0.0000,WGS 84
Reserved 1
Reserved 2
Magnetic Variation,,,E
Map Projection,Latitude/Longitude,PolyCal,Yes,AutoCalOnly,No,BSBUseWPX,No
Point01,xy, 102, 200,in, deg, 34, 0.0000,S, 54, 0.0000,W, grid, , , ,
Point02,xy, 2283, 194,in, deg, 34, 0.0000,S, 52, 30.0000,W, grid, , , ,
Point03,xy, 4461, 210,in, deg, 34, 0.0000,S, 51, 0.0000,W, grid, , , ,
Point04,xy, 129, 1948,in, deg, 35, 0.0000,S, 54, 0.0000,W, grid, , , ,
Point05,xy, 2280, 1937,in, deg, 35, 0.0000,S, 52, 30.0000,W, grid, , , ,
Point06,xy, 4435, 1950,in, deg, 35, 0.0000,S, 51, 0.0000,W, grid, , , ,
Point07,xy, 154, 3696,in, deg, 36, 0.0000,S, 54, 0.0000,W, grid, , , ,
Point08,xy, 2281, 3680,in, deg, 36, 0.0000,S, 52, 30.0000,W, grid, , , ,
Point09,xy, 4408, 3700,in, deg, 36, 0.0000,S, 51, 0.0000,W, grid, , , ,
Point10,xy, , ,in, deg, , ,, , ,, grid, , , ,
Point11,xy, , ,in, deg, , ,, , ,, grid, , , ,
Point12,xy, , ,in, deg, , ,, , ,, grid, , , ,
Point13,xy, , ,in, deg, , ,, , ,, grid, , , ,
Point14,xy, , ,in, deg, , ,, , ,, grid, , , ,
Point15,xy, , ,in, deg, , ,, , ,, grid, , , ,
Point16,xy, , ,in, deg, , ,, , ,, grid, , , ,
Point17,xy, , ,in, deg, , ,, , ,, grid, , , ,
Point18,xy, , ,in, deg, , ,, , ,, grid, , , ,
Point19,xy, , ,in, deg, , ,, , ,, grid, , , ,
Point20,xy, , ,in, deg, , ,, , ,, grid, , , ,
Point21,xy, , ,in, deg, , ,, , ,, grid, , , ,
Point22,xy, , ,in, deg, , ,, , ,, grid, , , ,
Point23,xy, , ,in, deg, , ,, , ,, grid, , , ,
Point24,xy, , ,in, deg, , ,, , ,, grid, , , ,
Point25,xy, , ,in, deg, , ,, , ,, grid, , , ,
Point26,xy, , ,in, deg, , ,, , ,, grid, , , ,
Point27,xy, , ,in, deg, , ,, , ,, grid, , , ,
Point28,xy, , ,in, deg, , ,, , ,, grid, , , ,
Point29,xy, , ,in, deg, , ,, , ,, grid, , , ,
Point30,xy, , ,in, deg, , ,, , ,, grid, , , ,
Projection Setup,,,,,,,,,,
Map Feature = MF ; Map Comment = MC These follow if they exist
Track File = TF These follow if they exist
Moving Map Parameters = MM? These follow if they exist
MM0,Yes
MMPNUM,4
MMPXY,1,0,0
MMPXY,2,4607,0
MMPXY,3,4539,4163
MMPXY,4,1,4161
MMPLL,1, -54.068523, -33.883669
MMPLL,2, -50.902273, -33.878080
MMPLL,3, -50.902358, -36.265157
MMPLL,4, -54.113268, -36.264781
MM1B,63.537368
MOP,Map Open Position,0,0
IWH,Map Image Width/Height,2500,1395
