OziExplorer Map Data File Version 2.2
I22A
si22-1.png
1 ,Map Code,
Pulkovo 1942 (1),, 0.0000, 0.0000,WGS 84
Reserved 1
Reserved 2
Magnetic Variation,,,E
Map Projection,Latitude/Longitude,PolyCal,Yes,AutoCalOnly,No,BSBUseWPX,No
Point01,xy, 117, 193,in, deg, 32, 0.0000,S, 54, 0.0000,W, grid, , , ,
Point02,xy, 2345, 190,in, deg, 32, 0.0000,S, 52, 30.0000,W, grid, , , ,
Point03,xy, 4573, 209,in, deg, 32, 0.0000,S, 51, 0.0000,W, grid, , , ,
Point04,xy, 139, 1940,in, deg, 33, 0.0000,S, 54, 0.0000,W, grid, , , ,
Point05,xy, 2343, 1935,in, deg, 33, 0.0000,S, 52, 30.0000,W, grid, , , ,
Point06,xy, 4548, 1952,in, deg, 33, 0.0000,S, 51, 0.0000,W, grid, , , ,
Point07,xy, 165, 3686,in, deg, 34, 0.0000,S, 54, 0.0000,W, grid, , , ,
Point08,xy, 2344, 3678,in, deg, 34, 0.0000,S, 52, 30.0000,W, grid, , , ,
Point09,xy, 4520, 3697,in, deg, 34, 0.0000,S, 51, 0.0000,W, grid, , , ,
Point10,xy, , ,in, deg, , ,, , ,, grid, , , ,
Point11,xy, , ,in, deg, , ,, , ,, grid, , , ,
Point12,xy, , ,in, deg, , ,, , ,, grid, , , ,
Point13,xy, , ,in, deg, , ,, , ,, grid, , , ,
Point14,xy, , ,in, deg, , ,, , ,, grid, , , ,
Point15,xy, , ,in, deg, , ,, , ,, grid, , , ,
Point16,xy, , ,in, deg, , ,, , ,, grid, , , ,
Point17,xy, , ,in, deg, , ,, , ,, grid, , , ,
Point18,xy, , ,in, deg, , ,, , ,, grid, , , ,
Point19,xy, , ,in, deg, , ,, , ,, grid, , , ,
Point20,xy, , ,in, deg, , ,, , ,, grid, , , ,
Point21,xy, , ,in, deg, , ,, , ,, grid, , , ,
Point22,xy, , ,in, deg, , ,, , ,, grid, , , ,
Point23,xy, , ,in, deg, , ,, , ,, grid, , , ,
Point24,xy, , ,in, deg, , ,, , ,, grid, , , ,
Point25,xy, , ,in, deg, , ,, , ,, grid, , , ,
Point26,xy, , ,in, deg, , ,, , ,, grid, , , ,
Point27,xy, , ,in, deg, , ,, , ,, grid, , , ,
Point28,xy, , ,in, deg, , ,, , ,, grid, , , ,
Point29,xy, , ,in, deg, , ,, , ,, grid, , , ,
Point30,xy, , ,in, deg, , ,, , ,, grid, , , ,
Projection Setup,,,,,,,,,,
Map Feature = MF ; Map Comment = MC These follow if they exist
Track File = TF These follow if they exist
Moving Map Parameters = MM? These follow if they exist
MM0,Yes
MMPNUM,4
MMPXY,1,0,0
MMPXY,2,4732,1
MMPXY,3,4665,4219
MMPXY,4,0,4208
MMPLL,1, -54.076451, -31.888709
MMPLL,2, -50.895654, -31.879422
MMPLL,3, -50.895330, -34.298736
MMPLL,4, -54.119169, -34.298298
MM1B,63.519029
MOP,Map Open Position,0,0
IWH,Map Image Width/Height,2500,1395
