OziExplorer Map Data File Version 2.2
I21r-Montevideo.png
si21-4.png
1 ,Map Code,
Pulkovo 1942 (1),, 0.0000, 0.0000,WGS 84
Reserved 1
Reserved 2
Magnetic Variation,,,E
Map Projection,Latitude/Longitude,PolyCal,Yes,AutoCalOnly,No,BSBUseWPX,No
Point01,xy, 71, 128,in, deg, 34, 0.0000,S, 57, 0.0000,W, grid, , , ,
Point02,xy, 1709, 128,in, deg, 34, 0.0000,S, 55, 30.0000,W, grid, , , ,
Point03,xy, 3343, 148,in, deg, 34, 0.0000,S, 54, 0.0000,W, grid, , , ,
Point04,xy, 86, 1436,in, deg, 35, 0.0000,S, 57, 0.0000,W, grid, , , ,
Point05,xy, 1705, 1438,in, deg, 35, 0.0000,S, 55, 30.0000,W, grid, , , ,
Point06,xy, 3319, 1459,in, deg, 35, 0.0000,S, 54, 0.0000,W, grid, , , ,
Point07,xy, 101, 2745,in, deg, 36, 0.0000,S, 57, 0.0000,W, grid, , , ,
Point08,xy, 1701, 2746,in, deg, 36, 0.0000,S, 55, 30.0000,W, grid, , , ,
Point09,xy, 3296, 2767,in, deg, 36, 0.0000,S, 54, 0.0000,W, grid, , , ,
Point10,xy, , ,in, deg, , ,, , ,, grid, , , ,
Point11,xy, , ,in, deg, , ,, , ,, grid, , , ,
Point12,xy, , ,in, deg, , ,, , ,, grid, , , ,
Point13,xy, , ,in, deg, , ,, , ,, grid, , , ,
Point14,xy, , ,in, deg, , ,, , ,, grid, , , ,
Point15,xy, , ,in, deg, , ,, , ,, grid, , , ,
Point16,xy, , ,in, deg, , ,, , ,, grid, , , ,
Point17,xy, , ,in, deg, , ,, , ,, grid, , , ,
Point18,xy, , ,in, deg, , ,, , ,, grid, , , ,
Point19,xy, , ,in, deg, , ,, , ,, grid, , , ,
Point20,xy, , ,in, deg, , ,, , ,, grid, , , ,
Point21,xy, , ,in, deg, , ,, , ,, grid, , , ,
Point22,xy, , ,in, deg, , ,, , ,, grid, , , ,
Point23,xy, , ,in, deg, , ,, , ,, grid, , , ,
Point24,xy, , ,in, deg, , ,, , ,, grid, , , ,
Point25,xy, , ,in, deg, , ,, , ,, grid, , , ,
Point26,xy, , ,in, deg, , ,, , ,, grid, , , ,
Point27,xy, , ,in, deg, , ,, , ,, grid, , , ,
Point28,xy, , ,in, deg, , ,, , ,, grid, , , ,
Point29,xy, , ,in, deg, , ,, , ,, grid, , , ,
Point30,xy, , ,in, deg, , ,, , ,, grid, , , ,
Projection Setup,,,,,,,,,,
Map Feature = MF ; Map Comment = MC These follow if they exist
Track File = TF These follow if they exist
Moving Map Parameters = MM? These follow if they exist
MM0,Yes
MMPNUM,4
MMPXY,1,0,0
MMPXY,2,3478,2
MMPXY,3,3418,3153
MMPXY,4,0,3128
MMPLL,1, -57.063497, -33.902263
MMPLL,2, -53.878312, -33.886513
MMPLL,3, -53.878278, -36.292919
MMPLL,4, -57.099276, -36.292894
MM1B,84.434914
MOP,Map Open Position,0,0
IWH,Map Image Width/Height,2500,1395
