OziExplorer Map Data File Version 2.2
I21-b-Durasno.png
si21-2.png
1 ,Map Code,
Pulkovo 1942 (1),, 0.0000, 0.0000,WGS 84
Reserved 1
Reserved 2
Magnetic Variation,,,E
Map Projection,Latitude/Longitude,PolyCal,Yes,AutoCalOnly,No,BSBUseWPX,No
Point01,xy, 69, 141,in, deg, 32, 0.0000,S, 57, 0.0000,W, grid, , , ,
Point02,xy, 1739, 141,in, deg, 32, 0.0000,S, 55, 30.0000,W, grid, , , ,
Point03,xy, 3415, 157,in, deg, 32, 0.0000,S, 54, 0.0000,W, grid, , , ,
Point04,xy, 83, 1450,in, deg, 33, 0.0000,S, 57, 0.0000,W, grid, , , ,
Point05,xy, 1737, 1450,in, deg, 33, 0.0000,S, 55, 30.0000,W, grid, , , ,
Point06,xy, 3393, 1467,in, deg, 33, 0.0000,S, 54, 0.0000,W, grid, , , ,
Point07,xy, 99, 2758,in, deg, 34, 0.0000,S, 57, 0.0000,W, grid, , , ,
Point08,xy, 1733, 2757,in, deg, 34, 0.0000,S, 55, 30.0000,W, grid, , , ,
Point09,xy, 3370, 2774,in, deg, 34, 0.0000,S, 54, 0.0000,W, grid, , , ,
Point10,xy, , ,in, deg, , ,, , ,, grid, , , ,
Point11,xy, , ,in, deg, , ,, , ,, grid, , , ,
Point12,xy, , ,in, deg, , ,, , ,, grid, , , ,
Point13,xy, , ,in, deg, , ,, , ,, grid, , , ,
Point14,xy, , ,in, deg, , ,, , ,, grid, , , ,
Point15,xy, , ,in, deg, , ,, , ,, grid, , , ,
Point16,xy, , ,in, deg, , ,, , ,, grid, , , ,
Point17,xy, , ,in, deg, , ,, , ,, grid, , , ,
Point18,xy, , ,in, deg, , ,, , ,, grid, , , ,
Point19,xy, , ,in, deg, , ,, , ,, grid, , , ,
Point20,xy, , ,in, deg, , ,, , ,, grid, , , ,
Point21,xy, , ,in, deg, , ,, , ,, grid, , , ,
Point22,xy, , ,in, deg, , ,, , ,, grid, , , ,
Point23,xy, , ,in, deg, , ,, , ,, grid, , , ,
Point24,xy, , ,in, deg, , ,, , ,, grid, , , ,
Point25,xy, , ,in, deg, , ,, , ,, grid, , , ,
Point26,xy, , ,in, deg, , ,, , ,, grid, , , ,
Point27,xy, , ,in, deg, , ,, , ,, grid, , , ,
Point28,xy, , ,in, deg, , ,, , ,, grid, , , ,
Point29,xy, , ,in, deg, , ,, , ,, grid, , , ,
Point30,xy, , ,in, deg, , ,, , ,, grid, , , ,
Projection Setup,,,,,,,,,,
Map Feature = MF ; Map Comment = MC These follow if they exist
Track File = TF These follow if they exist
Moving Map Parameters = MM? These follow if they exist
MM0,Yes
MMPNUM,4
MMPXY,1,0,0
MMPXY,2,3536,1
MMPXY,3,3479,3145
MMPXY,4,0,3127
MMPLL,1, -57.059836, -31.892123
MMPLL,2, -53.894156, -31.879315
MMPLL,3, -53.894414, -34.282674
MMPLL,4, -57.095034, -34.282332
MM1B,84.850342
MOP,Map Open Position,0,0
IWH,Map Image Width/Height,2500,1395
