OziExplorer Map Data File Version 2.2
I21A-Paisandu.png
si21-1.png
1 ,Map Code,
Pulkovo 1942 (1),, 0.0000, 0.0000,WGS 84
Reserved 1
Reserved 2
Magnetic Variation,,,E
Map Projection,Latitude/Longitude,PolyCal,Yes,AutoCalOnly,No,BSBUseWPX,No
Point01,xy, 68, 123,in, deg, 32, 0.0000,S, 60, 0.0000,W, grid, , , ,
Point02,xy, 1741, 122,in, deg, 32, 0.0000,S, 58, 30.0000,W, grid, , , ,
Point03,xy, 3416, 139,in, deg, 32, 0.0000,S, 57, 0.0000,W, grid, , , ,
Point04,xy, 86, 1436,in, deg, 33, 0.0000,S, 60, 0.0000,W, grid, , , ,
Point05,xy, 1739, 1431,in, deg, 33, 0.0000,S, 58, 30.0000,W, grid, , , ,
Point06,xy, 3394, 1448,in, deg, 33, 0.0000,S, 57, 0.0000,W, grid, , , ,
Point07,xy, 100, 2747,in, deg, 34, 0.0000,S, 60, 0.0000,W, grid, , , ,
Point08,xy, 1735, 2740,in, deg, 34, 0.0000,S, 58, 30.0000,W, grid, , , ,
Point09,xy, 3372, 2757,in, deg, 34, 0.0000,S, 57, 0.0000,W, grid, , , ,
Point10,xy, , ,in, deg, , ,, , ,, grid, , , ,
Point11,xy, , ,in, deg, , ,, , ,, grid, , , ,
Point12,xy, , ,in, deg, , ,, , ,, grid, , , ,
Point13,xy, , ,in, deg, , ,, , ,, grid, , , ,
Point14,xy, , ,in, deg, , ,, , ,, grid, , , ,
Point15,xy, , ,in, deg, , ,, , ,, grid, , , ,
Point16,xy, , ,in, deg, , ,, , ,, grid, , , ,
Point17,xy, , ,in, deg, , ,, , ,, grid, , , ,
Point18,xy, , ,in, deg, , ,, , ,, grid, , , ,
Point19,xy, , ,in, deg, , ,, , ,, grid, , , ,
Point20,xy, , ,in, deg, , ,, , ,, grid, , , ,
Point21,xy, , ,in, deg, , ,, , ,, grid, , , ,
Point22,xy, , ,in, deg, , ,, , ,, grid, , , ,
Point23,xy, , ,in, deg, , ,, , ,, grid, , , ,
Point24,xy, , ,in, deg, , ,, , ,, grid, , , ,
Point25,xy, , ,in, deg, , ,, , ,, grid, , , ,
Point26,xy, , ,in, deg, , ,, , ,, grid, , , ,
Point27,xy, , ,in, deg, , ,, , ,, grid, , , ,
Point28,xy, , ,in, deg, , ,, , ,, grid, , , ,
Point29,xy, , ,in, deg, , ,, , ,, grid, , , ,
Point30,xy, , ,in, deg, , ,, , ,, grid, , , ,
Projection Setup,,,,,,,,,,
Map Feature = MF ; Map Comment = MC These follow if they exist
Track File = TF These follow if they exist
Moving Map Parameters = MM? These follow if they exist
MM0,Yes
MMPNUM,4
MMPXY,1,0,0
MMPXY,2,3534,2
MMPXY,3,3478,3122
MMPXY,4,1,3113
MMPLL,1, -60.059716, -31.905296
MMPLL,2, -56.896099, -31.893468
MMPLL,3, -56.896088, -34.278172
MMPLL,4, -60.095028, -34.278593
MM1B,84.703780
MOP,Map Open Position,0,0
IWH,Map Image Width/Height,2500,1395
