OziExplorer Map Data File Version 2.2
I20r-Hunin.png
si20-4.png
1 ,Map Code,
Pulkovo 1942 (1),, 0.0000, 0.0000,WGS 84
Reserved 1
Reserved 2
Magnetic Variation,,,E
Map Projection,Latitude/Longitude,PolyCal,Yes,AutoCalOnly,No,BSBUseWPX,No
Point01,xy, 72, 121,in, deg, 34, 0.0000,S, 63, 0.0000,W, grid, , , ,
Point02,xy, 1711, 121,in, deg, 34, 0.0000,S, 61, 30.0000,W, grid, , , ,
Point03,xy, 3346, 138,in, deg, 34, 0.0000,S, 60, 0.0000,W, grid, , , ,
Point04,xy, 88, 1429,in, deg, 35, 0.0000,S, 63, 0.0000,W, grid, , , ,
Point05,xy, 1705, 1428,in, deg, 35, 0.0000,S, 61, 30.0000,W, grid, , , ,
Point06,xy, 3322, 1450,in, deg, 35, 0.0000,S, 60, 0.0000,W, grid, , , ,
Point07,xy, 102, 2740,in, deg, 36, 0.0000,S, 63, 0.0000,W, grid, , , ,
Point08,xy, 1700, 2738,in, deg, 36, 0.0000,S, 61, 30.0000,W, grid, , , ,
Point09,xy, 3299, 2755,in, deg, 36, 0.0000,S, 60, 0.0000,W, grid, , , ,
Point10,xy, , ,in, deg, , ,, , ,, grid, , , ,
Point11,xy, , ,in, deg, , ,, , ,, grid, , , ,
Point12,xy, , ,in, deg, , ,, , ,, grid, , , ,
Point13,xy, , ,in, deg, , ,, , ,, grid, , , ,
Point14,xy, , ,in, deg, , ,, , ,, grid, , , ,
Point15,xy, , ,in, deg, , ,, , ,, grid, , , ,
Point16,xy, , ,in, deg, , ,, , ,, grid, , , ,
Point17,xy, , ,in, deg, , ,, , ,, grid, , , ,
Point18,xy, , ,in, deg, , ,, , ,, grid, , , ,
Point19,xy, , ,in, deg, , ,, , ,, grid, , , ,
Point20,xy, , ,in, deg, , ,, , ,, grid, , , ,
Point21,xy, , ,in, deg, , ,, , ,, grid, , , ,
Point22,xy, , ,in, deg, , ,, , ,, grid, , , ,
Point23,xy, , ,in, deg, , ,, , ,, grid, , , ,
Point24,xy, , ,in, deg, , ,, , ,, grid, , , ,
Point25,xy, , ,in, deg, , ,, , ,, grid, , , ,
Point26,xy, , ,in, deg, , ,, , ,, grid, , , ,
Point27,xy, , ,in, deg, , ,, , ,, grid, , , ,
Point28,xy, , ,in, deg, , ,, , ,, grid, , , ,
Point29,xy, , ,in, deg, , ,, , ,, grid, , , ,
Point30,xy, , ,in, deg, , ,, , ,, grid, , , ,
Projection Setup,,,,,,,,,,
Map Feature = MF ; Map Comment = MC These follow if they exist
Track File = TF These follow if they exist
Moving Map Parameters = MM? These follow if they exist
MM0,Yes
MMPNUM,4
MMPXY,1,0,0
MMPXY,2,3466,3
MMPXY,3,3406,3126
MMPXY,4,0,3108
MMPLL,1, -63.065324, -33.907552
MMPLL,2, -59.892639, -33.894239
MMPLL,3, -59.892280, -36.281359
MMPLL,4, -63.099772, -36.281076
MM1B,84.576790
MOP,Map Open Position,0,0
IWH,Map Image Width/Height,2500,1395
