OziExplorer Map Data File Version 2.2
I20-bRosario.png
si20-2.png
1 ,Map Code,
Pulkovo 1942 (1),, 0.0000, 0.0000,WGS 84
Reserved 1
Reserved 2
Magnetic Variation,,,E
Map Projection,Latitude/Longitude,PolyCal,Yes,AutoCalOnly,No,BSBUseWPX,No
Point01,xy, 61, 118,in, deg, 32, 0.0000,S, 63, 0.0000,W, grid, , , ,
Point02,xy, 1736, 119,in, deg, 32, 0.0000,S, 61, 30.0000,W, grid, , , ,
Point03,xy, 3407, 139,in, deg, 32, 0.0000,S, 60, 0.0000,W, grid, , , ,
Point04,xy, 74, 1427,in, deg, 33, 0.0000,S, 63, 0.0000,W, grid, , , ,
Point05,xy, 1731, 1428,in, deg, 33, 0.0000,S, 61, 30.0000,W, grid, , , ,
Point06,xy, 3384, 1448,in, deg, 33, 0.0000,S, 60, 0.0000,W, grid, , , ,
Point07,xy, 86, 2736,in, deg, 34, 0.0000,S, 63, 0.0000,W, grid, , , ,
Point08,xy, 1724, 2736,in, deg, 34, 0.0000,S, 61, 30.0000,W, grid, , , ,
Point09,xy, 3361, 2756,in, deg, 34, 0.0000,S, 60, 0.0000,W, grid, , , ,
Point10,xy, , ,in, deg, , ,, , ,, grid, , , ,
Point11,xy, , ,in, deg, , ,, , ,, grid, , , ,
Point12,xy, , ,in, deg, , ,, , ,, grid, , , ,
Point13,xy, , ,in, deg, , ,, , ,, grid, , , ,
Point14,xy, , ,in, deg, , ,, , ,, grid, , , ,
Point15,xy, , ,in, deg, , ,, , ,, grid, , , ,
Point16,xy, , ,in, deg, , ,, , ,, grid, , , ,
Point17,xy, , ,in, deg, , ,, , ,, grid, , , ,
Point18,xy, , ,in, deg, , ,, , ,, grid, , , ,
Point19,xy, , ,in, deg, , ,, , ,, grid, , , ,
Point20,xy, , ,in, deg, , ,, , ,, grid, , , ,
Point21,xy, , ,in, deg, , ,, , ,, grid, , , ,
Point22,xy, , ,in, deg, , ,, , ,, grid, , , ,
Point23,xy, , ,in, deg, , ,, , ,, grid, , , ,
Point24,xy, , ,in, deg, , ,, , ,, grid, , , ,
Point25,xy, , ,in, deg, , ,, , ,, grid, , , ,
Point26,xy, , ,in, deg, , ,, , ,, grid, , , ,
Point27,xy, , ,in, deg, , ,, , ,, grid, , , ,
Point28,xy, , ,in, deg, , ,, , ,, grid, , , ,
Point29,xy, , ,in, deg, , ,, , ,, grid, , , ,
Point30,xy, , ,in, deg, , ,, , ,, grid, , , ,
Projection Setup,,,,,,,,,,
Map Feature = MF ; Map Comment = MC These follow if they exist
Track File = TF These follow if they exist
Moving Map Parameters = MM? These follow if they exist
MM0,Yes
MMPNUM,4
MMPXY,1,0,0
MMPXY,2,3537,1
MMPXY,3,3479,3111
MMPXY,4,0,3090
MMPLL,1, -63.053693, -31.909670
MMPLL,2, -59.885565, -31.892692
MMPLL,3, -59.884940, -34.269734
MMPLL,4, -63.081392, -34.270350
MM1B,84.543318
MOP,Map Open Position,0,0
IWH,Map Image Width/Height,2500,1395
