OziExplorer Map Data File Version 2.2
I20A-RioQuatro.png
si20-1.png
1 ,Map Code,
Pulkovo 1942 (1),, 0.0000, 0.0000,WGS 84
Reserved 1
Reserved 2
Magnetic Variation,,,E
Map Projection,Latitude/Longitude,PolyCal,Yes,AutoCalOnly,No,BSBUseWPX,No
Point01,xy, 71, 136,in, deg, 32, 0.0000,S, 66, 0.0000,W, grid, , , ,
Point02,xy, 1745, 147,in, deg, 32, 0.0000,S, 64, 30.0000,W, grid, , , ,
Point03,xy, 3418, 176,in, deg, 32, 0.0000,S, 63, 0.0000,W, grid, , , ,
Point04,xy, 78, 1445,in, deg, 33, 0.0000,S, 66, 0.0000,W, grid, , , ,
Point05,xy, 1735, 1456,in, deg, 33, 0.0000,S, 64, 30.0000,W, grid, , , ,
Point06,xy, 3389, 1484,in, deg, 33, 0.0000,S, 63, 0.0000,W, grid, , , ,
Point07,xy, 84, 2755,in, deg, 34, 0.0000,S, 66, 0.0000,W, grid, , , ,
Point08,xy, 1721, 2762,in, deg, 34, 0.0000,S, 64, 30.0000,W, grid, , , ,
Point09,xy, 3358, 2790,in, deg, 34, 0.0000,S, 63, 0.0000,W, grid, , , ,
Point10,xy, , ,in, deg, , ,, , ,, grid, , , ,
Point11,xy, , ,in, deg, , ,, , ,, grid, , , ,
Point12,xy, , ,in, deg, , ,, , ,, grid, , , ,
Point13,xy, , ,in, deg, , ,, , ,, grid, , , ,
Point14,xy, , ,in, deg, , ,, , ,, grid, , , ,
Point15,xy, , ,in, deg, , ,, , ,, grid, , , ,
Point16,xy, , ,in, deg, , ,, , ,, grid, , , ,
Point17,xy, , ,in, deg, , ,, , ,, grid, , , ,
Point18,xy, , ,in, deg, , ,, , ,, grid, , , ,
Point19,xy, , ,in, deg, , ,, , ,, grid, , , ,
Point20,xy, , ,in, deg, , ,, , ,, grid, , , ,
Point21,xy, , ,in, deg, , ,, , ,, grid, , , ,
Point22,xy, , ,in, deg, , ,, , ,, grid, , , ,
Point23,xy, , ,in, deg, , ,, , ,, grid, , , ,
Point24,xy, , ,in, deg, , ,, , ,, grid, , , ,
Point25,xy, , ,in, deg, , ,, , ,, grid, , , ,
Point26,xy, , ,in, deg, , ,, , ,, grid, , , ,
Point27,xy, , ,in, deg, , ,, , ,, grid, , , ,
Point28,xy, , ,in, deg, , ,, , ,, grid, , , ,
Point29,xy, , ,in, deg, , ,, , ,, grid, , , ,
Point30,xy, , ,in, deg, , ,, , ,, grid, , , ,
Projection Setup,,,,,,,,,,
Map Feature = MF ; Map Comment = MC These follow if they exist
Track File = TF These follow if they exist
Moving Map Parameters = MM? These follow if they exist
MM0,Yes
MMPNUM,4
MMPXY,1,0,0
MMPXY,2,3571,2
MMPXY,3,3494,3158
MMPXY,4,0,3120
MMPLL,1, -66.062566, -31.896383
MMPLL,2, -62.866344, -31.863995
MMPLL,3, -62.866344, -34.279530
MMPLL,4, -66.077826, -34.279529
MM1B,84.553383
MOP,Map Open Position,0,0
IWH,Map Image Width/Height,2500,1395
