OziExplorer Map Data File Version 2.2
I19-b-Mendoza.png
si19-2.png
1 ,Map Code,
Pulkovo 1942 (1),, 0.0000, 0.0000,WGS 84
Reserved 1
Reserved 2
Magnetic Variation,,,E
Map Projection,Latitude/Longitude,PolyCal,Yes,AutoCalOnly,No,BSBUseWPX,No
Point01,xy, 67, 106,in, deg, 32, 0.0000,S, 69, 0.0000,W, grid, , , ,
Point02,xy, 1746, 110,in, deg, 32, 0.0000,S, 67, 30.0000,W, grid, , , ,
Point03,xy, 3422, 132,in, deg, 32, 0.0000,S, 66, 0.0000,W, grid, , , ,
Point04,xy, 80, 1417,in, deg, 33, 0.0000,S, 69, 0.0000,W, grid, , , ,
Point05,xy, 1742, 1422,in, deg, 33, 0.0000,S, 67, 30.0000,W, grid, , , ,
Point06,xy, 3400, 1444,in, deg, 33, 0.0000,S, 66, 0.0000,W, grid, , , ,
Point07,xy, 93, 2727,in, deg, 34, 0.0000,S, 69, 0.0000,W, grid, , , ,
Point08,xy, 1737, 2731,in, deg, 34, 0.0000,S, 67, 30.0000,W, grid, , , ,
Point09,xy, 3376, 2753,in, deg, 34, 0.0000,S, 66, 0.0000,W, grid, , , ,
Point10,xy, , ,in, deg, , ,, , ,, grid, , , ,
Point11,xy, , ,in, deg, , ,, , ,, grid, , , ,
Point12,xy, , ,in, deg, , ,, , ,, grid, , , ,
Point13,xy, , ,in, deg, , ,, , ,, grid, , , ,
Point14,xy, , ,in, deg, , ,, , ,, grid, , , ,
Point15,xy, , ,in, deg, , ,, , ,, grid, , , ,
Point16,xy, , ,in, deg, , ,, , ,, grid, , , ,
Point17,xy, , ,in, deg, , ,, , ,, grid, , , ,
Point18,xy, , ,in, deg, , ,, , ,, grid, , , ,
Point19,xy, , ,in, deg, , ,, , ,, grid, , , ,
Point20,xy, , ,in, deg, , ,, , ,, grid, , , ,
Point21,xy, , ,in, deg, , ,, , ,, grid, , , ,
Point22,xy, , ,in, deg, , ,, , ,, grid, , , ,
Point23,xy, , ,in, deg, , ,, , ,, grid, , , ,
Point24,xy, , ,in, deg, , ,, , ,, grid, , , ,
Point25,xy, , ,in, deg, , ,, , ,, grid, , , ,
Point26,xy, , ,in, deg, , ,, , ,, grid, , , ,
Point27,xy, , ,in, deg, , ,, , ,, grid, , , ,
Point28,xy, , ,in, deg, , ,, , ,, grid, , , ,
Point29,xy, , ,in, deg, , ,, , ,, grid, , , ,
Point30,xy, , ,in, deg, , ,, , ,, grid, , , ,
Projection Setup,,,,,,,,,,
Map Feature = MF ; Map Comment = MC These follow if they exist
Track File = TF These follow if they exist
Moving Map Parameters = MM? These follow if they exist
MM0,Yes
MMPNUM,4
MMPXY,1,0,0
MMPXY,2,3551,1
MMPXY,3,3492,3144
MMPXY,4,0,3115
MMPLL,1, -69.058389, -31.919290
MMPLL,2, -65.886484, -31.898324
MMPLL,3, -65.887152, -34.297074
MMPLL,4, -69.088298, -34.296621
MM1B,84.255795
MOP,Map Open Position,0,0
IWH,Map Image Width/Height,2500,1395
