OziExplorer Map Data File Version 2.2
I19A-Santiago.png
si19-1.png
1 ,Map Code,
Pulkovo 1942 (1),, 0.0000, 0.0000,WGS 84
Reserved 1
Reserved 2
Magnetic Variation,,,E
Map Projection,Latitude/Longitude,PolyCal,Yes,AutoCalOnly,No,BSBUseWPX,No
Point01,xy, 70, 117,in, deg, 32, 0.0000,S, 72, 0.0000,W, grid, , , ,
Point02,xy, 1741, 116,in, deg, 32, 0.0000,S, 70, 30.0000,W, grid, , , ,
Point03,xy, 3415, 129,in, deg, 32, 0.0000,S, 69, 0.0000,W, grid, , , ,
Point04,xy, 88, 1432,in, deg, 33, 0.0000,S, 72, 0.0000,W, grid, , , ,
Point05,xy, 1740, 1427,in, deg, 33, 0.0000,S, 70, 30.0000,W, grid, , , ,
Point06,xy, 3396, 1440,in, deg, 33, 0.0000,S, 69, 0.0000,W, grid, , , ,
Point07,xy, 106, 2745,in, deg, 34, 0.0000,S, 72, 0.0000,W, grid, , , ,
Point08,xy, 1741, 2738,in, deg, 34, 0.0000,S, 70, 30.0000,W, grid, , , ,
Point09,xy, 3378, 2753,in, deg, 34, 0.0000,S, 69, 0.0000,W, grid, , , ,
Point10,xy, , ,in, deg, , ,, , ,, grid, , , ,
Point11,xy, , ,in, deg, , ,, , ,, grid, , , ,
Point12,xy, , ,in, deg, , ,, , ,, grid, , , ,
Point13,xy, , ,in, deg, , ,, , ,, grid, , , ,
Point14,xy, , ,in, deg, , ,, , ,, grid, , , ,
Point15,xy, , ,in, deg, , ,, , ,, grid, , , ,
Point16,xy, , ,in, deg, , ,, , ,, grid, , , ,
Point17,xy, , ,in, deg, , ,, , ,, grid, , , ,
Point18,xy, , ,in, deg, , ,, , ,, grid, , , ,
Point19,xy, , ,in, deg, , ,, , ,, grid, , , ,
Point20,xy, , ,in, deg, , ,, , ,, grid, , , ,
Point21,xy, , ,in, deg, , ,, , ,, grid, , , ,
Point22,xy, , ,in, deg, , ,, , ,, grid, , , ,
Point23,xy, , ,in, deg, , ,, , ,, grid, , , ,
Point24,xy, , ,in, deg, , ,, , ,, grid, , , ,
Point25,xy, , ,in, deg, , ,, , ,, grid, , , ,
Point26,xy, , ,in, deg, , ,, , ,, grid, , , ,
Point27,xy, , ,in, deg, , ,, , ,, grid, , , ,
Point28,xy, , ,in, deg, , ,, , ,, grid, , , ,
Point29,xy, , ,in, deg, , ,, , ,, grid, , , ,
Point30,xy, , ,in, deg, , ,, , ,, grid, , , ,
Projection Setup,,,,,,,,,,
Map Feature = MF ; Map Comment = MC These follow if they exist
Track File = TF These follow if they exist
Moving Map Parameters = MM? These follow if they exist
MM0,Yes
MMPNUM,4
MMPXY,1,0,0
MMPXY,2,3529,1
MMPXY,3,3483,3105
MMPXY,4,1,3098
MMPLL,1, -72.061531, -31.909758
MMPLL,2, -68.899703, -31.900893
MMPLL,3, -68.899442, -34.268067
MMPLL,4, -72.101730, -34.268250
MM1B,84.821456
MOP,Map Open Position,0,0
IWH,Map Image Width/Height,2500,1395
