OziExplorer Map Data File Version 2.2
I18r-Kaukenes.png
si18-4.png
1 ,Map Code,
Pulkovo 1942 (1),, 0.0000, 0.0000,WGS 84
Reserved 1
Reserved 2
Magnetic Variation,,,E
Map Projection,Latitude/Longitude,PolyCal,Yes,AutoCalOnly,No,BSBUseWPX,No
Point01,xy, 70, 118,in, deg, 34, 0.0000,S, 75, 0.0000,W, grid, , , ,
Point02,xy, 1709, 113,in, deg, 34, 0.0000,S, 73, 30.0000,W, grid, , , ,
Point03,xy, 3345, 133,in, deg, 34, 0.0000,S, 72, 0.0000,W, grid, , , ,
Point04,xy, 86, 1434,in, deg, 35, 0.0000,S, 75, 0.0000,W, grid, , , ,
Point05,xy, 1706, 1429,in, deg, 35, 0.0000,S, 73, 30.0000,W, grid, , , ,
Point06,xy, 3321, 1450,in, deg, 35, 0.0000,S, 72, 0.0000,W, grid, , , ,
Point07,xy, 103, 2747,in, deg, 36, 0.0000,S, 75, 0.0000,W, grid, , , ,
Point08,xy, 1702, 2745,in, deg, 36, 0.0000,S, 73, 30.0000,W, grid, , , ,
Point09,xy, 3296, 2764,in, deg, 36, 0.0000,S, 72, 0.0000,W, grid, , , ,
Point10,xy, , ,in, deg, , ,, , ,, grid, , , ,
Point11,xy, , ,in, deg, , ,, , ,, grid, , , ,
Point12,xy, , ,in, deg, , ,, , ,, grid, , , ,
Point13,xy, , ,in, deg, , ,, , ,, grid, , , ,
Point14,xy, , ,in, deg, , ,, , ,, grid, , , ,
Point15,xy, , ,in, deg, , ,, , ,, grid, , , ,
Point16,xy, , ,in, deg, , ,, , ,, grid, , , ,
Point17,xy, , ,in, deg, , ,, , ,, grid, , , ,
Point18,xy, , ,in, deg, , ,, , ,, grid, , , ,
Point19,xy, , ,in, deg, , ,, , ,, grid, , , ,
Point20,xy, , ,in, deg, , ,, , ,, grid, , , ,
Point21,xy, , ,in, deg, , ,, , ,, grid, , , ,
Point22,xy, , ,in, deg, , ,, , ,, grid, , , ,
Point23,xy, , ,in, deg, , ,, , ,, grid, , , ,
Point24,xy, , ,in, deg, , ,, , ,, grid, , , ,
Point25,xy, , ,in, deg, , ,, , ,, grid, , , ,
Point26,xy, , ,in, deg, , ,, , ,, grid, , , ,
Point27,xy, , ,in, deg, , ,, , ,, grid, , , ,
Point28,xy, , ,in, deg, , ,, , ,, grid, , , ,
Point29,xy, , ,in, deg, , ,, , ,, grid, , , ,
Point30,xy, , ,in, deg, , ,, , ,, grid, , , ,
Projection Setup,,,,,,,,,,
Map Feature = MF ; Map Comment = MC These follow if they exist
Track File = TF These follow if they exist
Moving Map Parameters = MM? These follow if they exist
MM0,Yes
MMPNUM,4
MMPXY,1,0,0
MMPXY,2,3473,1
MMPXY,3,3411,3142
MMPXY,4,0,3123
MMPLL,1, -75.062119, -33.909988
MMPLL,2, -71.884778, -33.898083
MMPLL,3, -71.884850, -36.285428
MMPLL,4, -75.101163, -36.285254
MM1B,84.350886
MOP,Map Open Position,0,0
IWH,Map Image Width/Height,2500,1395
