OziExplorer Map Data File Version 2.2
H22B-PortuAlegri.png
sh22-3.png
1 ,Map Code,
Pulkovo 1942 (1),, 0.0000, 0.0000,WGS 84
Reserved 1
Reserved 2
Magnetic Variation,,,E
Map Projection,Latitude/Longitude,PolyCal,Yes,AutoCalOnly,No,BSBUseWPX,No
Point01,xy, 70, 117,in, deg, 30, 0.0000,S, 54, 0.0000,W, grid, , , ,
Point02,xy, 1778, 118,in, deg, 30, 0.0000,S, 52, 30.0000,W, grid, , , ,
Point03,xy, 3485, 137,in, deg, 30, 0.0000,S, 51, 0.0000,W, grid, , , ,
Point04,xy, 81, 1427,in, deg, 31, 0.0000,S, 54, 0.0000,W, grid, , , ,
Point05,xy, 1774, 1428,in, deg, 31, 0.0000,S, 52, 30.0000,W, grid, , , ,
Point06,xy, 3461, 1446,in, deg, 31, 0.0000,S, 51, 0.0000,W, grid, , , ,
Point07,xy, 93, 2736,in, deg, 32, 0.0000,S, 54, 0.0000,W, grid, , , ,
Point08,xy, 1767, 2735,in, deg, 32, 0.0000,S, 52, 30.0000,W, grid, , , ,
Point09,xy, 3437, 2752,in, deg, 32, 0.0000,S, 51, 0.0000,W, grid, , , ,
Point10,xy, , ,in, deg, , ,, , ,, grid, , , ,
Point11,xy, , ,in, deg, , ,, , ,, grid, , , ,
Point12,xy, , ,in, deg, , ,, , ,, grid, , , ,
Point13,xy, , ,in, deg, , ,, , ,, grid, , , ,
Point14,xy, , ,in, deg, , ,, , ,, grid, , , ,
Point15,xy, , ,in, deg, , ,, , ,, grid, , , ,
Point16,xy, , ,in, deg, , ,, , ,, grid, , , ,
Point17,xy, , ,in, deg, , ,, , ,, grid, , , ,
Point18,xy, , ,in, deg, , ,, , ,, grid, , , ,
Point19,xy, , ,in, deg, , ,, , ,, grid, , , ,
Point20,xy, , ,in, deg, , ,, , ,, grid, , , ,
Point21,xy, , ,in, deg, , ,, , ,, grid, , , ,
Point22,xy, , ,in, deg, , ,, , ,, grid, , , ,
Point23,xy, , ,in, deg, , ,, , ,, grid, , , ,
Point24,xy, , ,in, deg, , ,, , ,, grid, , , ,
Point25,xy, , ,in, deg, , ,, , ,, grid, , , ,
Point26,xy, , ,in, deg, , ,, , ,, grid, , , ,
Point27,xy, , ,in, deg, , ,, , ,, grid, , , ,
Point28,xy, , ,in, deg, , ,, , ,, grid, , , ,
Point29,xy, , ,in, deg, , ,, , ,, grid, , , ,
Point30,xy, , ,in, deg, , ,, , ,, grid, , , ,
Projection Setup,,,,,,,,,,
Map Feature = MF ; Map Comment = MC These follow if they exist
Track File = TF These follow if they exist
Moving Map Parameters = MM? These follow if they exist
MM0,Yes
MMPNUM,4
MMPXY,1,0,0
MMPXY,2,3610,1
MMPXY,3,3550,3128
MMPXY,4,0,3111
MMPLL,1, -54.059864, -29.910752
MMPLL,2, -50.891892, -29.894523
MMPLL,3, -50.891877, -32.286628
MMPLL,4, -54.086298, -32.286670
MM1B,84.491819
MOP,Map Open Position,0,0
IWH,Map Image Width/Height,2500,1395
