OziExplorer Map Data File Version 2.2
H22-b-Tubaran.png
sh22-2.png
1 ,Map Code,
Pulkovo 1942 (1),, 0.0000, 0.0000,WGS 84
Reserved 1
Reserved 2
Magnetic Variation,,,E
Map Projection,Latitude/Longitude,PolyCal,Yes,AutoCalOnly,No,BSBUseWPX,No
Point01,xy, 66, 119,in, deg, 28, 0.0000,S, 51, 0.0000,W, grid, , , ,
Point02,xy, 1811, 121,in, deg, 28, 0.0000,S, 49, 30.0000,W, grid, , , ,
Point03,xy, 3553, 137,in, deg, 28, 0.0000,S, 48, 0.0000,W, grid, , , ,
Point04,xy, 81, 1428,in, deg, 29, 0.0000,S, 51, 0.0000,W, grid, , , ,
Point05,xy, 1808, 1431,in, deg, 29, 0.0000,S, 49, 30.0000,W, grid, , , ,
Point06,xy, 3533, 1449,in, deg, 29, 0.0000,S, 48, 0.0000,W, grid, , , ,
Point07,xy, 95, 2738,in, deg, 30, 0.0000,S, 51, 0.0000,W, grid, , , ,
Point08,xy, 1803, 2736,in, deg, 30, 0.0000,S, 49, 30.0000,W, grid, , , ,
Point09,xy, 3514, 2756,in, deg, 30, 0.0000,S, 48, 0.0000,W, grid, , , ,
Point10,xy, , ,in, deg, , ,, , ,, grid, , , ,
Point11,xy, , ,in, deg, , ,, , ,, grid, , , ,
Point12,xy, , ,in, deg, , ,, , ,, grid, , , ,
Point13,xy, , ,in, deg, , ,, , ,, grid, , , ,
Point14,xy, , ,in, deg, , ,, , ,, grid, , , ,
Point15,xy, , ,in, deg, , ,, , ,, grid, , , ,
Point16,xy, , ,in, deg, , ,, , ,, grid, , , ,
Point17,xy, , ,in, deg, , ,, , ,, grid, , , ,
Point18,xy, , ,in, deg, , ,, , ,, grid, , , ,
Point19,xy, , ,in, deg, , ,, , ,, grid, , , ,
Point20,xy, , ,in, deg, , ,, , ,, grid, , , ,
Point21,xy, , ,in, deg, , ,, , ,, grid, , , ,
Point22,xy, , ,in, deg, , ,, , ,, grid, , , ,
Point23,xy, , ,in, deg, , ,, , ,, grid, , , ,
Point24,xy, , ,in, deg, , ,, , ,, grid, , , ,
Point25,xy, , ,in, deg, , ,, , ,, grid, , , ,
Point26,xy, , ,in, deg, , ,, , ,, grid, , , ,
Point27,xy, , ,in, deg, , ,, , ,, grid, , , ,
Point28,xy, , ,in, deg, , ,, , ,, grid, , , ,
Point29,xy, , ,in, deg, , ,, , ,, grid, , , ,
Point30,xy, , ,in, deg, , ,, , ,, grid, , , ,
Projection Setup,,,,,,,,,,
Map Feature = MF ; Map Comment = MC These follow if they exist
Track File = TF These follow if they exist
Moving Map Parameters = MM? These follow if they exist
MM0,Yes
MMPNUM,4
MMPXY,1,0,0
MMPXY,2,3663,2
MMPXY,3,3613,3125
MMPXY,4,0,3105
MMPLL,1, -51.056044, -27.909074
MMPLL,2, -47.907346, -27.895068
MMPLL,3, -47.907013, -30.281642
MMPLL,4, -51.086458, -30.281806
MM1B,84.560551
MOP,Map Open Position,0,0
IWH,Map Image Width/Height,2500,1395
