OziExplorer Map Data File Version 2.2
H22A-SantaMarija.png
sh22-1.png
1 ,Map Code,
Pulkovo 1942 (1),, 0.0000, 0.0000,WGS 84
Reserved 1
Reserved 2
Magnetic Variation,,,E
Map Projection,Latitude/Longitude,PolyCal,Yes,AutoCalOnly,No,BSBUseWPX,No
Point01,xy, 73, 119,in, deg, 28, 0.0000,S, 54, 0.0000,W, grid, , , ,
Point02,xy, 1820, 107,in, deg, 28, 0.0000,S, 52, 30.0000,W, grid, , , ,
Point03,xy, 3565, 114,in, deg, 28, 0.0000,S, 51, 0.0000,W, grid, , , ,
Point04,xy, 97, 1429,in, deg, 29, 0.0000,S, 54, 0.0000,W, grid, , , ,
Point05,xy, 1825, 1417,in, deg, 29, 0.0000,S, 52, 30.0000,W, grid, , , ,
Point06,xy, 3553, 1424,in, deg, 29, 0.0000,S, 51, 0.0000,W, grid, , , ,
Point07,xy, 119, 2738,in, deg, 30, 0.0000,S, 54, 0.0000,W, grid, , , ,
Point08,xy, 1829, 2727,in, deg, 30, 0.0000,S, 52, 30.0000,W, grid, , , ,
Point09,xy, 3542, 2732,in, deg, 30, 0.0000,S, 51, 0.0000,W, grid, , , ,
Point10,xy, , ,in, deg, , ,, , ,, grid, , , ,
Point11,xy, , ,in, deg, , ,, , ,, grid, , , ,
Point12,xy, , ,in, deg, , ,, , ,, grid, , , ,
Point13,xy, , ,in, deg, , ,, , ,, grid, , , ,
Point14,xy, , ,in, deg, , ,, , ,, grid, , , ,
Point15,xy, , ,in, deg, , ,, , ,, grid, , , ,
Point16,xy, , ,in, deg, , ,, , ,, grid, , , ,
Point17,xy, , ,in, deg, , ,, , ,, grid, , , ,
Point18,xy, , ,in, deg, , ,, , ,, grid, , , ,
Point19,xy, , ,in, deg, , ,, , ,, grid, , , ,
Point20,xy, , ,in, deg, , ,, , ,, grid, , , ,
Point21,xy, , ,in, deg, , ,, , ,, grid, , , ,
Point22,xy, , ,in, deg, , ,, , ,, grid, , , ,
Point23,xy, , ,in, deg, , ,, , ,, grid, , , ,
Point24,xy, , ,in, deg, , ,, , ,, grid, , , ,
Point25,xy, , ,in, deg, , ,, , ,, grid, , , ,
Point26,xy, , ,in, deg, , ,, , ,, grid, , , ,
Point27,xy, , ,in, deg, , ,, , ,, grid, , , ,
Point28,xy, , ,in, deg, , ,, , ,, grid, , , ,
Point29,xy, , ,in, deg, , ,, , ,, grid, , , ,
Point30,xy, , ,in, deg, , ,, , ,, grid, , , ,
Projection Setup,,,,,,,,,,
Map Feature = MF ; Map Comment = MC These follow if they exist
Track File = TF These follow if they exist
Moving Map Parameters = MM? These follow if they exist
MM0,Yes
MMPNUM,4
MMPXY,1,0,0
MMPXY,2,3663,0
MMPXY,3,3632,3099
MMPXY,4,0,3106
MMPLL,1, -54.061404, -27.908758
MMPLL,2, -50.916848, -27.912379
MMPLL,3, -50.917178, -30.279584
MMPLL,4, -54.109824, -30.279812
MM1B,84.424887
MOP,Map Open Position,0,0
IWH,Map Image Width/Height,2500,1395
