OziExplorer Map Data File Version 2.2
H21r-Vashe.png
sh21-4.png
1 ,Map Code,
Pulkovo 1942 (1),, 0.0000, 0.0000,WGS 84
Reserved 1
Reserved 2
Magnetic Variation,,,E
Map Projection,Latitude/Longitude,PolyCal,Yes,AutoCalOnly,No,BSBUseWPX,No
Point01,xy, 69, 146,in, deg, 30, 0.0000,S, 57, 0.0000,W, grid, , , ,
Point02,xy, 1782, 138,in, deg, 30, 0.0000,S, 55, 30.0000,W, grid, , , ,
Point03,xy, 3494, 148,in, deg, 30, 0.0000,S, 54, 0.0000,W, grid, , , ,
Point04,xy, 90, 1454,in, deg, 31, 0.0000,S, 57, 0.0000,W, grid, , , ,
Point05,xy, 1784, 1447,in, deg, 31, 0.0000,S, 55, 30.0000,W, grid, , , ,
Point06,xy, 3478, 1457,in, deg, 31, 0.0000,S, 54, 0.0000,W, grid, , , ,
Point07,xy, 108, 2763,in, deg, 32, 0.0000,S, 57, 0.0000,W, grid, , , ,
Point08,xy, 1784, 2756,in, deg, 32, 0.0000,S, 55, 30.0000,W, grid, , , ,
Point09,xy, 3463, 2768,in, deg, 32, 0.0000,S, 54, 0.0000,W, grid, , , ,
Point10,xy, , ,in, deg, , ,, , ,, grid, , , ,
Point11,xy, , ,in, deg, , ,, , ,, grid, , , ,
Point12,xy, , ,in, deg, , ,, , ,, grid, , , ,
Point13,xy, , ,in, deg, , ,, , ,, grid, , , ,
Point14,xy, , ,in, deg, , ,, , ,, grid, , , ,
Point15,xy, , ,in, deg, , ,, , ,, grid, , , ,
Point16,xy, , ,in, deg, , ,, , ,, grid, , , ,
Point17,xy, , ,in, deg, , ,, , ,, grid, , , ,
Point18,xy, , ,in, deg, , ,, , ,, grid, , , ,
Point19,xy, , ,in, deg, , ,, , ,, grid, , , ,
Point20,xy, , ,in, deg, , ,, , ,, grid, , , ,
Point21,xy, , ,in, deg, , ,, , ,, grid, , , ,
Point22,xy, , ,in, deg, , ,, , ,, grid, , , ,
Point23,xy, , ,in, deg, , ,, , ,, grid, , , ,
Point24,xy, , ,in, deg, , ,, , ,, grid, , , ,
Point25,xy, , ,in, deg, , ,, , ,, grid, , , ,
Point26,xy, , ,in, deg, , ,, , ,, grid, , , ,
Point27,xy, , ,in, deg, , ,, , ,, grid, , , ,
Point28,xy, , ,in, deg, , ,, , ,, grid, , , ,
Point29,xy, , ,in, deg, , ,, , ,, grid, , , ,
Point30,xy, , ,in, deg, , ,, , ,, grid, , , ,
Projection Setup,,,,,,,,,,
Map Feature = MF ; Map Comment = MC These follow if they exist
Track File = TF These follow if they exist
Moving Map Parameters = MM? These follow if they exist
MM0,Yes
MMPNUM,4
MMPXY,1,0,0
MMPXY,2,3601,0
MMPXY,3,3560,3118
MMPXY,4,0,3113
MMPLL,1, -57.058917, -29.887734
MMPLL,2, -53.907794, -29.886078
MMPLL,3, -53.908255, -32.266165
MMPLL,4, -57.101073, -32.266508
MM1B,84.514779
MOP,Map Open Position,0,0
IWH,Map Image Width/Height,2500,1395
