OziExplorer Map Data File Version 2.2
H21-b-Alegreti.png
sh21-2.png
1 ,Map Code,
Pulkovo 1942 (1),, 0.0000, 0.0000,WGS 84
Reserved 1
Reserved 2
Magnetic Variation,,,E
Map Projection,Latitude/Longitude,PolyCal,Yes,AutoCalOnly,No,BSBUseWPX,No
Point01,xy, 62, 108,in, deg, 28, 0.0000,S, 57, 0.0000,W, grid, , , ,
Point02,xy, 1806, 112,in, deg, 28, 0.0000,S, 55, 30.0000,W, grid, , , ,
Point03,xy, 3550, 132,in, deg, 28, 0.0000,S, 54, 0.0000,W, grid, , , ,
Point04,xy, 71, 1414,in, deg, 29, 0.0000,S, 57, 0.0000,W, grid, , , ,
Point05,xy, 1800, 1420,in, deg, 29, 0.0000,S, 55, 30.0000,W, grid, , , ,
Point06,xy, 3527, 1440,in, deg, 29, 0.0000,S, 54, 0.0000,W, grid, , , ,
Point07,xy, 82, 2724,in, deg, 30, 0.0000,S, 57, 0.0000,W, grid, , , ,
Point08,xy, 1793, 2728,in, deg, 30, 0.0000,S, 55, 30.0000,W, grid, , , ,
Point09,xy, 3503, 2749,in, deg, 30, 0.0000,S, 54, 0.0000,W, grid, , , ,
Point10,xy, , ,in, deg, , ,, , ,, grid, , , ,
Point11,xy, , ,in, deg, , ,, , ,, grid, , , ,
Point12,xy, , ,in, deg, , ,, , ,, grid, , , ,
Point13,xy, , ,in, deg, , ,, , ,, grid, , , ,
Point14,xy, , ,in, deg, , ,, , ,, grid, , , ,
Point15,xy, , ,in, deg, , ,, , ,, grid, , , ,
Point16,xy, , ,in, deg, , ,, , ,, grid, , , ,
Point17,xy, , ,in, deg, , ,, , ,, grid, , , ,
Point18,xy, , ,in, deg, , ,, , ,, grid, , , ,
Point19,xy, , ,in, deg, , ,, , ,, grid, , , ,
Point20,xy, , ,in, deg, , ,, , ,, grid, , , ,
Point21,xy, , ,in, deg, , ,, , ,, grid, , , ,
Point22,xy, , ,in, deg, , ,, , ,, grid, , , ,
Point23,xy, , ,in, deg, , ,, , ,, grid, , , ,
Point24,xy, , ,in, deg, , ,, , ,, grid, , , ,
Point25,xy, , ,in, deg, , ,, , ,, grid, , , ,
Point26,xy, , ,in, deg, , ,, , ,, grid, , , ,
Point27,xy, , ,in, deg, , ,, , ,, grid, , , ,
Point28,xy, , ,in, deg, , ,, , ,, grid, , , ,
Point29,xy, , ,in, deg, , ,, , ,, grid, , , ,
Point30,xy, , ,in, deg, , ,, , ,, grid, , , ,
Projection Setup,,,,,,,,,,
Map Feature = MF ; Map Comment = MC These follow if they exist
Track File = TF These follow if they exist
Moving Map Parameters = MM? These follow if they exist
MM0,Yes
MMPNUM,4
MMPXY,1,0,0
MMPXY,2,3669,1
MMPXY,3,3610,3125
MMPXY,4,0,3098
MMPLL,1, -57.052172, -27.917451
MMPLL,2, -53.899825, -27.898144
MMPLL,3, -53.900200, -30.285458
MMPLL,4, -57.074369, -30.285773
MM1B,84.504584
MOP,Map Open Position,0,0
IWH,Map Image Width/Height,2500,1395
