OziExplorer Map Data File Version 2.2
H21A-Urugwayana.png
sh21-1.png
1 ,Map Code,
Pulkovo 1942 (1),, 0.0000, 0.0000,WGS 84
Reserved 1
Reserved 2
Magnetic Variation,,,E
Map Projection,Latitude/Longitude,PolyCal,Yes,AutoCalOnly,No,BSBUseWPX,No
Point01,xy, 60, 117,in, deg, 28, 0.0000,S, 60, 0.0000,W, grid, , , ,
Point02,xy, 1805, 109,in, deg, 28, 0.0000,S, 58, 30.0000,W, grid, , , ,
Point03,xy, 3549, 116,in, deg, 28, 0.0000,S, 57, 0.0000,W, grid, , , ,
Point04,xy, 80, 1427,in, deg, 29, 0.0000,S, 60, 0.0000,W, grid, , , ,
Point05,xy, 1808, 1416,in, deg, 29, 0.0000,S, 58, 30.0000,W, grid, , , ,
Point06,xy, 3534, 1425,in, deg, 29, 0.0000,S, 57, 0.0000,W, grid, , , ,
Point07,xy, 100, 2734,in, deg, 30, 0.0000,S, 60, 0.0000,W, grid, , , ,
Point08,xy, 1807, 2723,in, deg, 30, 0.0000,S, 58, 30.0000,W, grid, , , ,
Point09,xy, 3516, 2732,in, deg, 30, 0.0000,S, 57, 0.0000,W, grid, , , ,
Point10,xy, , ,in, deg, , ,, , ,, grid, , , ,
Point11,xy, , ,in, deg, , ,, , ,, grid, , , ,
Point12,xy, , ,in, deg, , ,, , ,, grid, , , ,
Point13,xy, , ,in, deg, , ,, , ,, grid, , , ,
Point14,xy, , ,in, deg, , ,, , ,, grid, , , ,
Point15,xy, , ,in, deg, , ,, , ,, grid, , , ,
Point16,xy, , ,in, deg, , ,, , ,, grid, , , ,
Point17,xy, , ,in, deg, , ,, , ,, grid, , , ,
Point18,xy, , ,in, deg, , ,, , ,, grid, , , ,
Point19,xy, , ,in, deg, , ,, , ,, grid, , , ,
Point20,xy, , ,in, deg, , ,, , ,, grid, , , ,
Point21,xy, , ,in, deg, , ,, , ,, grid, , , ,
Point22,xy, , ,in, deg, , ,, , ,, grid, , , ,
Point23,xy, , ,in, deg, , ,, , ,, grid, , , ,
Point24,xy, , ,in, deg, , ,, , ,, grid, , , ,
Point25,xy, , ,in, deg, , ,, , ,, grid, , , ,
Point26,xy, , ,in, deg, , ,, , ,, grid, , , ,
Point27,xy, , ,in, deg, , ,, , ,, grid, , , ,
Point28,xy, , ,in, deg, , ,, , ,, grid, , , ,
Point29,xy, , ,in, deg, , ,, , ,, grid, , , ,
Point30,xy, , ,in, deg, , ,, , ,, grid, , , ,
Projection Setup,,,,,,,,,,
Map Feature = MF ; Map Comment = MC These follow if they exist
Track File = TF These follow if they exist
Moving Map Parameters = MM? These follow if they exist
MM0,Yes
MMPNUM,4
MMPXY,1,0,2
MMPXY,2,3656,0
MMPXY,3,3614,3089
MMPXY,4,0,3091
MMPLL,1, -60.049715, -27.911228
MMPLL,2, -56.909492, -27.910200
MMPLL,3, -56.908892, -30.272870
MMPLL,4, -60.091588, -30.272526
MM1B,84.438694
MOP,Map Open Position,0,0
IWH,Map Image Width/Height,2500,1395
