OziExplorer Map Data File Version 2.2
H20r-SantaFe.png
sh20-4.png
1 ,Map Code,
Pulkovo 1942 (1),, 0.0000, 0.0000,WGS 84
Reserved 1
Reserved 2
Magnetic Variation,,,E
Map Projection,Latitude/Longitude,PolyCal,Yes,AutoCalOnly,No,BSBUseWPX,No
Point01,xy, 66, 112,in, deg, 30, 0.0000,S, 63, 0.0000,W, grid, , , ,
Point02,xy, 1776, 116,in, deg, 30, 0.0000,S, 61, 30.0000,W, grid, , , ,
Point03,xy, 3487, 139,in, deg, 30, 0.0000,S, 60, 0.0000,W, grid, , , ,
Point04,xy, 75, 1421,in, deg, 31, 0.0000,S, 63, 0.0000,W, grid, , , ,
Point05,xy, 1768, 1428,in, deg, 31, 0.0000,S, 61, 30.0000,W, grid, , , ,
Point06,xy, 3459, 1449,in, deg, 31, 0.0000,S, 60, 0.0000,W, grid, , , ,
Point07,xy, 84, 2729,in, deg, 32, 0.0000,S, 63, 0.0000,W, grid, , , ,
Point08,xy, 1759, 2735,in, deg, 32, 0.0000,S, 61, 30.0000,W, grid, , , ,
Point09,xy, 3433, 2760,in, deg, 32, 0.0000,S, 60, 0.0000,W, grid, , , ,
Point10,xy, , ,in, deg, , ,, , ,, grid, , , ,
Point11,xy, , ,in, deg, , ,, , ,, grid, , , ,
Point12,xy, , ,in, deg, , ,, , ,, grid, , , ,
Point13,xy, , ,in, deg, , ,, , ,, grid, , , ,
Point14,xy, , ,in, deg, , ,, , ,, grid, , , ,
Point15,xy, , ,in, deg, , ,, , ,, grid, , , ,
Point16,xy, , ,in, deg, , ,, , ,, grid, , , ,
Point17,xy, , ,in, deg, , ,, , ,, grid, , , ,
Point18,xy, , ,in, deg, , ,, , ,, grid, , , ,
Point19,xy, , ,in, deg, , ,, , ,, grid, , , ,
Point20,xy, , ,in, deg, , ,, , ,, grid, , , ,
Point21,xy, , ,in, deg, , ,, , ,, grid, , , ,
Point22,xy, , ,in, deg, , ,, , ,, grid, , , ,
Point23,xy, , ,in, deg, , ,, , ,, grid, , , ,
Point24,xy, , ,in, deg, , ,, , ,, grid, , , ,
Point25,xy, , ,in, deg, , ,, , ,, grid, , , ,
Point26,xy, , ,in, deg, , ,, , ,, grid, , , ,
Point27,xy, , ,in, deg, , ,, , ,, grid, , , ,
Point28,xy, , ,in, deg, , ,, , ,, grid, , , ,
Point29,xy, , ,in, deg, , ,, , ,, grid, , , ,
Point30,xy, , ,in, deg, , ,, , ,, grid, , , ,
Projection Setup,,,,,,,,,,
Map Feature = MF ; Map Comment = MC These follow if they exist
Track File = TF These follow if they exist
Moving Map Parameters = MM? These follow if they exist
MM0,Yes
MMPNUM,4
MMPXY,1,0,0
MMPXY,2,3615,0
MMPXY,3,3554,2850
MMPXY,4,0,2817
MMPLL,1, -63.057051, -29.914476
MMPLL,2, -59.889990, -29.892671
MMPLL,3, -59.889778, -32.067232
MMPLL,4, -63.076051, -32.067334
MM1B,84.551027
MOP,Map Open Position,0,0
IWH,Map Image Width/Height,2500,1395
