OziExplorer Map Data File Version 2.2
H20B-Cordoba.png
sh20-3.png
1 ,Map Code,
Pulkovo 1942 (1),, 0.0000, 0.0000,WGS 84
Reserved 1
Reserved 2
Magnetic Variation,,,E
Map Projection,Latitude/Longitude,PolyCal,Yes,AutoCalOnly,No,BSBUseWPX,No
Point01,xy, 78, 126,in, deg, 30, 0.0000,S, 66, 0.0000,W, grid, , , ,
Point02,xy, 1787, 121,in, deg, 30, 0.0000,S, 64, 30.0000,W, grid, , , ,
Point03,xy, 3498, 133,in, deg, 30, 0.0000,S, 63, 0.0000,W, grid, , , ,
Point04,xy, 97, 1437,in, deg, 31, 0.0000,S, 66, 0.0000,W, grid, , , ,
Point05,xy, 1789, 1432,in, deg, 31, 0.0000,S, 64, 30.0000,W, grid, , , ,
Point06,xy, 3481, 1443,in, deg, 31, 0.0000,S, 63, 0.0000,W, grid, , , ,
Point07,xy, 113, 2748,in, deg, 32, 0.0000,S, 66, 0.0000,W, grid, , , ,
Point08,xy, 1789, 2741,in, deg, 32, 0.0000,S, 64, 30.0000,W, grid, , , ,
Point09,xy, 3465, 2752,in, deg, 32, 0.0000,S, 63, 0.0000,W, grid, , , ,
Point10,xy, , ,in, deg, , ,, , ,, grid, , , ,
Point11,xy, , ,in, deg, , ,, , ,, grid, , , ,
Point12,xy, , ,in, deg, , ,, , ,, grid, , , ,
Point13,xy, , ,in, deg, , ,, , ,, grid, , , ,
Point14,xy, , ,in, deg, , ,, , ,, grid, , , ,
Point15,xy, , ,in, deg, , ,, , ,, grid, , , ,
Point16,xy, , ,in, deg, , ,, , ,, grid, , , ,
Point17,xy, , ,in, deg, , ,, , ,, grid, , , ,
Point18,xy, , ,in, deg, , ,, , ,, grid, , , ,
Point19,xy, , ,in, deg, , ,, , ,, grid, , , ,
Point20,xy, , ,in, deg, , ,, , ,, grid, , , ,
Point21,xy, , ,in, deg, , ,, , ,, grid, , , ,
Point22,xy, , ,in, deg, , ,, , ,, grid, , , ,
Point23,xy, , ,in, deg, , ,, , ,, grid, , , ,
Point24,xy, , ,in, deg, , ,, , ,, grid, , , ,
Point25,xy, , ,in, deg, , ,, , ,, grid, , , ,
Point26,xy, , ,in, deg, , ,, , ,, grid, , , ,
Point27,xy, , ,in, deg, , ,, , ,, grid, , , ,
Point28,xy, , ,in, deg, , ,, , ,, grid, , , ,
Point29,xy, , ,in, deg, , ,, , ,, grid, , , ,
Point30,xy, , ,in, deg, , ,, , ,, grid, , , ,
Projection Setup,,,,,,,,,,
Map Feature = MF ; Map Comment = MC These follow if they exist
Track File = TF These follow if they exist
Moving Map Parameters = MM? These follow if they exist
MM0,Yes
MMPNUM,4
MMPXY,1,0,0
MMPXY,2,3601,1
MMPXY,3,3564,2821
MMPXY,4,1,2817
MMPLL,1, -66.066881, -29.903558
MMPLL,2, -62.910603, -29.898246
MMPLL,3, -62.910347, -32.051907
MMPLL,4, -66.101512, -32.052065
MM1B,84.598098
MOP,Map Open Position,0,0
IWH,Map Image Width/Height,2500,1395
