OziExplorer Map Data File Version 2.2
H20-b-Anjatuja.png
sh20-2.png
1 ,Map Code,
Pulkovo 1942 (1),, 0.0000, 0.0000,WGS 84
Reserved 1
Reserved 2
Magnetic Variation,,,E
Map Projection,Latitude/Longitude,PolyCal,Yes,AutoCalOnly,No,BSBUseWPX,No
Point01,xy, 75, 114,in, deg, 28, 0.0000,S, 63, 0.0000,W, grid, , , ,
Point02,xy, 1819, 111,in, deg, 28, 0.0000,S, 61, 30.0000,W, grid, , , ,
Point03,xy, 3565, 130,in, deg, 28, 0.0000,S, 60, 0.0000,W, grid, , , ,
Point04,xy, 89, 1422,in, deg, 29, 0.0000,S, 63, 0.0000,W, grid, , , ,
Point05,xy, 1817, 1419,in, deg, 29, 0.0000,S, 61, 30.0000,W, grid, , , ,
Point06,xy, 3546, 1439,in, deg, 29, 0.0000,S, 60, 0.0000,W, grid, , , ,
Point07,xy, 101, 2728,in, deg, 30, 0.0000,S, 63, 0.0000,W, grid, , , ,
Point08,xy, 1814, 2728,in, deg, 30, 0.0000,S, 61, 30.0000,W, grid, , , ,
Point09,xy, 3525, 2749,in, deg, 30, 0.0000,S, 60, 0.0000,W, grid, , , ,
Point10,xy, , ,in, deg, , ,, , ,, grid, , , ,
Point11,xy, , ,in, deg, , ,, , ,, grid, , , ,
Point12,xy, , ,in, deg, , ,, , ,, grid, , , ,
Point13,xy, , ,in, deg, , ,, , ,, grid, , , ,
Point14,xy, , ,in, deg, , ,, , ,, grid, , , ,
Point15,xy, , ,in, deg, , ,, , ,, grid, , , ,
Point16,xy, , ,in, deg, , ,, , ,, grid, , , ,
Point17,xy, , ,in, deg, , ,, , ,, grid, , , ,
Point18,xy, , ,in, deg, , ,, , ,, grid, , , ,
Point19,xy, , ,in, deg, , ,, , ,, grid, , , ,
Point20,xy, , ,in, deg, , ,, , ,, grid, , , ,
Point21,xy, , ,in, deg, , ,, , ,, grid, , , ,
Point22,xy, , ,in, deg, , ,, , ,, grid, , , ,
Point23,xy, , ,in, deg, , ,, , ,, grid, , , ,
Point24,xy, , ,in, deg, , ,, , ,, grid, , , ,
Point25,xy, , ,in, deg, , ,, , ,, grid, , , ,
Point26,xy, , ,in, deg, , ,, , ,, grid, , , ,
Point27,xy, , ,in, deg, , ,, , ,, grid, , , ,
Point28,xy, , ,in, deg, , ,, , ,, grid, , , ,
Point29,xy, , ,in, deg, , ,, , ,, grid, , , ,
Point30,xy, , ,in, deg, , ,, , ,, grid, , , ,
Projection Setup,,,,,,,,,,
Map Feature = MF ; Map Comment = MC These follow if they exist
Track File = TF These follow if they exist
Moving Map Parameters = MM? These follow if they exist
MM0,Yes
MMPNUM,4
MMPXY,1,0,0
MMPXY,2,3685,1
MMPXY,3,3635,3122
MMPXY,4,1,3099
MMPLL,1, -63.063052, -27.912115
MMPLL,2, -59.898264, -27.900113
MMPLL,3, -59.898354, -30.283161
MMPLL,4, -63.091058, -30.282959
MM1B,84.525662
MOP,Map Open Position,0,0
IWH,Map Image Width/Height,2500,1395
