OziExplorer Map Data File Version 2.2
H20A-Katamarka.png
sh20-1.png
1 ,Map Code,
Pulkovo 1942 (1),, 0.0000, 0.0000,WGS 84
Reserved 1
Reserved 2
Magnetic Variation,,,E
Map Projection,Latitude/Longitude,PolyCal,Yes,AutoCalOnly,No,BSBUseWPX,No
Point01,xy, 70, 106,in, deg, 28, 0.0000,S, 66, 0.0000,W, grid, , , ,
Point02,xy, 1817, 108,in, deg, 28, 0.0000,S, 64, 30.0000,W, grid, , , ,
Point03,xy, 3561, 127,in, deg, 28, 0.0000,S, 63, 0.0000,W, grid, , , ,
Point04,xy, 83, 1418,in, deg, 29, 0.0000,S, 66, 0.0000,W, grid, , , ,
Point05,xy, 1810, 1418,in, deg, 29, 0.0000,S, 64, 30.0000,W, grid, , , ,
Point06,xy, 3540, 1436,in, deg, 29, 0.0000,S, 63, 0.0000,W, grid, , , ,
Point07,xy, 94, 2728,in, deg, 30, 0.0000,S, 66, 0.0000,W, grid, , , ,
Point08,xy, 1804, 2727,in, deg, 30, 0.0000,S, 64, 30.0000,W, grid, , , ,
Point09,xy, 3516, 2745,in, deg, 30, 0.0000,S, 63, 0.0000,W, grid, , , ,
Point10,xy, , ,in, deg, , ,, , ,, grid, , , ,
Point11,xy, , ,in, deg, , ,, , ,, grid, , , ,
Point12,xy, , ,in, deg, , ,, , ,, grid, , , ,
Point13,xy, , ,in, deg, , ,, , ,, grid, , , ,
Point14,xy, , ,in, deg, , ,, , ,, grid, , , ,
Point15,xy, , ,in, deg, , ,, , ,, grid, , , ,
Point16,xy, , ,in, deg, , ,, , ,, grid, , , ,
Point17,xy, , ,in, deg, , ,, , ,, grid, , , ,
Point18,xy, , ,in, deg, , ,, , ,, grid, , , ,
Point19,xy, , ,in, deg, , ,, , ,, grid, , , ,
Point20,xy, , ,in, deg, , ,, , ,, grid, , , ,
Point21,xy, , ,in, deg, , ,, , ,, grid, , , ,
Point22,xy, , ,in, deg, , ,, , ,, grid, , , ,
Point23,xy, , ,in, deg, , ,, , ,, grid, , , ,
Point24,xy, , ,in, deg, , ,, , ,, grid, , , ,
Point25,xy, , ,in, deg, , ,, , ,, grid, , , ,
Point26,xy, , ,in, deg, , ,, , ,, grid, , , ,
Point27,xy, , ,in, deg, , ,, , ,, grid, , , ,
Point28,xy, , ,in, deg, , ,, , ,, grid, , , ,
Point29,xy, , ,in, deg, , ,, , ,, grid, , , ,
Point30,xy, , ,in, deg, , ,, , ,, grid, , , ,
Projection Setup,,,,,,,,,,
Map Feature = MF ; Map Comment = MC These follow if they exist
Track File = TF These follow if they exist
Moving Map Parameters = MM? These follow if they exist
MM0,Yes
MMPNUM,4
MMPXY,1,0,0
MMPXY,2,3683,1
MMPXY,3,3626,3103
MMPXY,4,0,3085
MMPLL,1, -66.059675, -27.918705
MMPLL,2, -62.897706, -27.902296
MMPLL,3, -62.897368, -30.272623
MMPLL,4, -66.084805, -30.272131
MM1B,84.458129
MOP,Map Open Position,0,0
IWH,Map Image Width/Height,2500,1395
