OziExplorer Map Data File Version 2.2
H19r-SanJuan.png
sh19-4.png
1 ,Map Code,
Pulkovo 1942 (1),, 0.0000, 0.0000,WGS 84
Reserved 1
Reserved 2
Magnetic Variation,,,E
Map Projection,Latitude/Longitude,PolyCal,Yes,AutoCalOnly,No,BSBUseWPX,No
Point01,xy, 70, 111,in, deg, 30, 0.0000,S, 69, 0.0000,W, grid, , , ,
Point02,xy, 1781, 115,in, deg, 30, 0.0000,S, 67, 30.0000,W, grid, , , ,
Point03,xy, 3491, 132,in, deg, 30, 0.0000,S, 66, 0.0000,W, grid, , , ,
Point04,xy, 81, 1422,in, deg, 31, 0.0000,S, 69, 0.0000,W, grid, , , ,
Point05,xy, 1777, 1423,in, deg, 31, 0.0000,S, 67, 30.0000,W, grid, , , ,
Point06,xy, 3470, 1443,in, deg, 31, 0.0000,S, 66, 0.0000,W, grid, , , ,
Point07,xy, 93, 2735,in, deg, 32, 0.0000,S, 69, 0.0000,W, grid, , , ,
Point08,xy, 1771, 2732,in, deg, 32, 0.0000,S, 67, 30.0000,W, grid, , , ,
Point09,xy, 3447, 2753,in, deg, 32, 0.0000,S, 66, 0.0000,W, grid, , , ,
Point10,xy, , ,in, deg, , ,, , ,, grid, , , ,
Point11,xy, , ,in, deg, , ,, , ,, grid, , , ,
Point12,xy, , ,in, deg, , ,, , ,, grid, , , ,
Point13,xy, , ,in, deg, , ,, , ,, grid, , , ,
Point14,xy, , ,in, deg, , ,, , ,, grid, , , ,
Point15,xy, , ,in, deg, , ,, , ,, grid, , , ,
Point16,xy, , ,in, deg, , ,, , ,, grid, , , ,
Point17,xy, , ,in, deg, , ,, , ,, grid, , , ,
Point18,xy, , ,in, deg, , ,, , ,, grid, , , ,
Point19,xy, , ,in, deg, , ,, , ,, grid, , , ,
Point20,xy, , ,in, deg, , ,, , ,, grid, , , ,
Point21,xy, , ,in, deg, , ,, , ,, grid, , , ,
Point22,xy, , ,in, deg, , ,, , ,, grid, , , ,
Point23,xy, , ,in, deg, , ,, , ,, grid, , , ,
Point24,xy, , ,in, deg, , ,, , ,, grid, , , ,
Point25,xy, , ,in, deg, , ,, , ,, grid, , , ,
Point26,xy, , ,in, deg, , ,, , ,, grid, , , ,
Point27,xy, , ,in, deg, , ,, , ,, grid, , , ,
Point28,xy, , ,in, deg, , ,, , ,, grid, , , ,
Point29,xy, , ,in, deg, , ,, , ,, grid, , , ,
Point30,xy, , ,in, deg, , ,, , ,, grid, , , ,
Projection Setup,,,,,,,,,,
Map Feature = MF ; Map Comment = MC These follow if they exist
Track File = TF These follow if they exist
Moving Map Parameters = MM? These follow if they exist
MM0,Yes
MMPNUM,4
MMPXY,1,0,0
MMPXY,2,3621,3
MMPXY,3,3565,3118
MMPXY,4,0,3099
MMPLL,1, -69.059943, -29.914511
MMPLL,2, -65.887914, -29.898807
MMPLL,3, -65.888527, -32.277430
MMPLL,4, -69.085677, -32.277898
MM1B,84.468758
MOP,Map Open Position,0,0
IWH,Map Image Width/Height,2500,1395
