OziExplorer Map Data File Version 2.2
H19B-Ovalje.png
sh19-3.png
1 ,Map Code,
Pulkovo 1942 (1),, 0.0000, 0.0000,WGS 84
Reserved 1
Reserved 2
Magnetic Variation,,,E
Map Projection,Latitude/Longitude,PolyCal,Yes,AutoCalOnly,No,BSBUseWPX,No
Point01,xy, 83, 108,in, deg, 30, 0.0000,S, 72, 0.0000,W, grid, , , ,
Point02,xy, 1791, 120,in, deg, 30, 0.0000,S, 70, 30.0000,W, grid, , , ,
Point03,xy, 3503, 147,in, deg, 30, 0.0000,S, 69, 0.0000,W, grid, , , ,
Point04,xy, 92, 1419,in, deg, 31, 0.0000,S, 72, 0.0000,W, grid, , , ,
Point05,xy, 1781, 1429,in, deg, 31, 0.0000,S, 70, 30.0000,W, grid, , , ,
Point06,xy, 3475, 1458,in, deg, 31, 0.0000,S, 69, 0.0000,W, grid, , , ,
Point07,xy, 97, 2730,in, deg, 32, 0.0000,S, 72, 0.0000,W, grid, , , ,
Point08,xy, 1771, 2739,in, deg, 32, 0.0000,S, 70, 30.0000,W, grid, , , ,
Point09,xy, 3447, 2767,in, deg, 32, 0.0000,S, 69, 0.0000,W, grid, , , ,
Point10,xy, , ,in, deg, , ,, , ,, grid, , , ,
Point11,xy, , ,in, deg, , ,, , ,, grid, , , ,
Point12,xy, , ,in, deg, , ,, , ,, grid, , , ,
Point13,xy, , ,in, deg, , ,, , ,, grid, , , ,
Point14,xy, , ,in, deg, , ,, , ,, grid, , , ,
Point15,xy, , ,in, deg, , ,, , ,, grid, , , ,
Point16,xy, , ,in, deg, , ,, , ,, grid, , , ,
Point17,xy, , ,in, deg, , ,, , ,, grid, , , ,
Point18,xy, , ,in, deg, , ,, , ,, grid, , , ,
Point19,xy, , ,in, deg, , ,, , ,, grid, , , ,
Point20,xy, , ,in, deg, , ,, , ,, grid, , , ,
Point21,xy, , ,in, deg, , ,, , ,, grid, , , ,
Point22,xy, , ,in, deg, , ,, , ,, grid, , , ,
Point23,xy, , ,in, deg, , ,, , ,, grid, , , ,
Point24,xy, , ,in, deg, , ,, , ,, grid, , , ,
Point25,xy, , ,in, deg, , ,, , ,, grid, , , ,
Point26,xy, , ,in, deg, , ,, , ,, grid, , , ,
Point27,xy, , ,in, deg, , ,, , ,, grid, , , ,
Point28,xy, , ,in, deg, , ,, , ,, grid, , , ,
Point29,xy, , ,in, deg, , ,, , ,, grid, , , ,
Point30,xy, , ,in, deg, , ,, , ,, grid, , , ,
Projection Setup,,,,,,,,,,
Map Feature = MF ; Map Comment = MC These follow if they exist
Track File = TF These follow if they exist
Moving Map Parameters = MM? These follow if they exist
MM0,Yes
MMPNUM,4
MMPXY,1,0,0
MMPXY,2,3645,3
MMPXY,3,3574,3164
MMPXY,4,2,3124
MMPLL,1, -72.072544, -29.917469
MMPLL,2, -68.878100, -29.887247
MMPLL,3, -68.878174, -32.300973
MMPLL,4, -72.087631, -32.301010
MM1B,84.750940
MOP,Map Open Position,0,0
IWH,Map Image Width/Height,2500,1395
