OziExplorer Map Data File Version 2.2
G22-bKuritiba.png
sg22-2.png
1 ,Map Code,
Pulkovo 1942 (1),, 0.0000, 0.0000,WGS 84
Reserved 1
Reserved 2
Magnetic Variation,,,E
Map Projection,Latitude/Longitude,PolyCal,Yes,AutoCalOnly,No,BSBUseWPX,No
Point01,xy, 76, 114,in, deg, 24, 0.0000,S, 51, 0.0000,W, grid, , , ,
Point02,xy, 1881, 119,in, deg, 24, 0.0000,S, 49, 30.0000,W, grid, , , ,
Point03,xy, 3690, 136,in, deg, 24, 0.0000,S, 48, 0.0000,W, grid, , , ,
Point04,xy, 86, 1423,in, deg, 25, 0.0000,S, 51, 0.0000,W, grid, , , ,
Point05,xy, 1876, 1426,in, deg, 25, 0.0000,S, 49, 30.0000,W, grid, , , ,
Point06,xy, 3668, 1444,in, deg, 25, 0.0000,S, 48, 0.0000,W, grid, , , ,
Point07,xy, 95, 2730,in, deg, 26, 0.0000,S, 51, 0.0000,W, grid, , , ,
Point08,xy, 1869, 2730,in, deg, 26, 0.0000,S, 49, 30.0000,W, grid, , , ,
Point09,xy, 3645, 2751,in, deg, 26, 0.0000,S, 48, 0.0000,W, grid, , , ,
Point10,xy, , ,in, deg, , ,, , ,, grid, , , ,
Point11,xy, , ,in, deg, , ,, , ,, grid, , , ,
Point12,xy, , ,in, deg, , ,, , ,, grid, , , ,
Point13,xy, , ,in, deg, , ,, , ,, grid, , , ,
Point14,xy, , ,in, deg, , ,, , ,, grid, , , ,
Point15,xy, , ,in, deg, , ,, , ,, grid, , , ,
Point16,xy, , ,in, deg, , ,, , ,, grid, , , ,
Point17,xy, , ,in, deg, , ,, , ,, grid, , , ,
Point18,xy, , ,in, deg, , ,, , ,, grid, , , ,
Point19,xy, , ,in, deg, , ,, , ,, grid, , , ,
Point20,xy, , ,in, deg, , ,, , ,, grid, , , ,
Point21,xy, , ,in, deg, , ,, , ,, grid, , , ,
Point22,xy, , ,in, deg, , ,, , ,, grid, , , ,
Point23,xy, , ,in, deg, , ,, , ,, grid, , , ,
Point24,xy, , ,in, deg, , ,, , ,, grid, , , ,
Point25,xy, , ,in, deg, , ,, , ,, grid, , , ,
Point26,xy, , ,in, deg, , ,, , ,, grid, , , ,
Point27,xy, , ,in, deg, , ,, , ,, grid, , , ,
Point28,xy, , ,in, deg, , ,, , ,, grid, , , ,
Point29,xy, , ,in, deg, , ,, , ,, grid, , , ,
Point30,xy, , ,in, deg, , ,, , ,, grid, , , ,
Projection Setup,,,,,,,,,,
Map Feature = MF ; Map Comment = MC These follow if they exist
Track File = TF These follow if they exist
Moving Map Parameters = MM? These follow if they exist
MM0,Yes
MMPNUM,4
MMPXY,1,0,0
MMPXY,2,3814,2
MMPXY,3,3758,3116
MMPXY,4,0,3094
MMPLL,1, -51.062143, -23.912190
MMPLL,2, -47.898941, -23.895760
MMPLL,3, -47.898877, -26.279120
MMPLL,4, -51.082634, -26.279251
MM1B,84.544926
MOP,Map Open Position,0,0
IWH,Map Image Width/Height,2500,1395
