OziExplorer Map Data File Version 2.2
G21rPosadas.png
sg21-4.png
1 ,Map Code,
Pulkovo 1942 (1),, 0.0000, 0.0000,WGS 84
Reserved 1
Reserved 2
Magnetic Variation,,,E
Map Projection,Latitude/Longitude,PolyCal,Yes,AutoCalOnly,No,BSBUseWPX,No
Point01,xy, 74, 119,in, deg, 26, 0.0000,S, 57, 0.0000,W, grid, , , ,
Point02,xy, 1850, 120,in, deg, 26, 0.0000,S, 55, 30.0000,W, grid, , , ,
Point03,xy, 3626, 135,in, deg, 26, 0.0000,S, 54, 0.0000,W, grid, , , ,
Point04,xy, 88, 1428,in, deg, 27, 0.0000,S, 57, 0.0000,W, grid, , , ,
Point05,xy, 1845, 1425,in, deg, 27, 0.0000,S, 55, 30.0000,W, grid, , , ,
Point06,xy, 3608, 1443,in, deg, 27, 0.0000,S, 54, 0.0000,W, grid, , , ,
Point07,xy, 99, 2734,in, deg, 28, 0.0000,S, 57, 0.0000,W, grid, , , ,
Point08,xy, 1843, 2733,in, deg, 28, 0.0000,S, 55, 30.0000,W, grid, , , ,
Point09,xy, 3590, 2751,in, deg, 28, 0.0000,S, 54, 0.0000,W, grid, , , ,
Point10,xy, , ,in, deg, , ,, , ,, grid, , , ,
Point11,xy, , ,in, deg, , ,, , ,, grid, , , ,
Point12,xy, , ,in, deg, , ,, , ,, grid, , , ,
Point13,xy, , ,in, deg, , ,, , ,, grid, , , ,
Point14,xy, , ,in, deg, , ,, , ,, grid, , , ,
Point15,xy, , ,in, deg, , ,, , ,, grid, , , ,
Point16,xy, , ,in, deg, , ,, , ,, grid, , , ,
Point17,xy, , ,in, deg, , ,, , ,, grid, , , ,
Point18,xy, , ,in, deg, , ,, , ,, grid, , , ,
Point19,xy, , ,in, deg, , ,, , ,, grid, , , ,
Point20,xy, , ,in, deg, , ,, , ,, grid, , , ,
Point21,xy, , ,in, deg, , ,, , ,, grid, , , ,
Point22,xy, , ,in, deg, , ,, , ,, grid, , , ,
Point23,xy, , ,in, deg, , ,, , ,, grid, , , ,
Point24,xy, , ,in, deg, , ,, , ,, grid, , , ,
Point25,xy, , ,in, deg, , ,, , ,, grid, , , ,
Point26,xy, , ,in, deg, , ,, , ,, grid, , , ,
Point27,xy, , ,in, deg, , ,, , ,, grid, , , ,
Point28,xy, , ,in, deg, , ,, , ,, grid, , , ,
Point29,xy, , ,in, deg, , ,, , ,, grid, , , ,
Point30,xy, , ,in, deg, , ,, , ,, grid, , , ,
Projection Setup,,,,,,,,,,
Map Feature = MF ; Map Comment = MC These follow if they exist
Track File = TF These follow if they exist
Moving Map Parameters = MM? These follow if they exist
MM0,Yes
MMPNUM,4
MMPXY,1,0,0
MMPXY,2,3737,1
MMPXY,3,3691,3113
MMPXY,4,1,3095
MMPLL,1, -57.062248, -25.907918
MMPLL,2, -53.908293, -25.895974
MMPLL,3, -53.908592, -28.275913
MMPLL,4, -57.087712, -28.275667
MM1B,84.673707
MOP,Map Open Position,0,0
IWH,Map Image Width/Height,2500,1395
