OziExplorer Map Data File Version 2.2
G21B-Resitencia.png
sg21-3.png
1 ,Map Code,
Pulkovo 1942 (1),, 0.0000, 0.0000,WGS 84
Reserved 1
Reserved 2
Magnetic Variation,,,E
Map Projection,Latitude/Longitude,PolyCal,Yes,AutoCalOnly,No,BSBUseWPX,No
Point01,xy, 79, 121,in, deg, 26, 0.0000,S, 60, 0.0000,W, grid, , , ,
Point02,xy, 1855, 118,in, deg, 26, 0.0000,S, 58, 30.0000,W, grid, , , ,
Point03,xy, 3631, 125,in, deg, 26, 0.0000,S, 57, 0.0000,W, grid, , , ,
Point04,xy, 96, 1432,in, deg, 27, 0.0000,S, 60, 0.0000,W, grid, , , ,
Point05,xy, 1858, 1425,in, deg, 27, 0.0000,S, 58, 30.0000,W, grid, , , ,
Point06,xy, 3619, 1433,in, deg, 27, 0.0000,S, 57, 0.0000,W, grid, , , ,
Point07,xy, 113, 2741,in, deg, 28, 0.0000,S, 60, 0.0000,W, grid, , , ,
Point08,xy, 1859, 2732,in, deg, 28, 0.0000,S, 58, 30.0000,W, grid, , , ,
Point09,xy, 3604, 2739,in, deg, 28, 0.0000,S, 57, 0.0000,W, grid, , , ,
Point10,xy, , ,in, deg, , ,, , ,, grid, , , ,
Point11,xy, , ,in, deg, , ,, , ,, grid, , , ,
Point12,xy, , ,in, deg, , ,, , ,, grid, , , ,
Point13,xy, , ,in, deg, , ,, , ,, grid, , , ,
Point14,xy, , ,in, deg, , ,, , ,, grid, , , ,
Point15,xy, , ,in, deg, , ,, , ,, grid, , , ,
Point16,xy, , ,in, deg, , ,, , ,, grid, , , ,
Point17,xy, , ,in, deg, , ,, , ,, grid, , , ,
Point18,xy, , ,in, deg, , ,, , ,, grid, , , ,
Point19,xy, , ,in, deg, , ,, , ,, grid, , , ,
Point20,xy, , ,in, deg, , ,, , ,, grid, , , ,
Point21,xy, , ,in, deg, , ,, , ,, grid, , , ,
Point22,xy, , ,in, deg, , ,, , ,, grid, , , ,
Point23,xy, , ,in, deg, , ,, , ,, grid, , , ,
Point24,xy, , ,in, deg, , ,, , ,, grid, , , ,
Point25,xy, , ,in, deg, , ,, , ,, grid, , , ,
Point26,xy, , ,in, deg, , ,, , ,, grid, , , ,
Point27,xy, , ,in, deg, , ,, , ,, grid, , , ,
Point28,xy, , ,in, deg, , ,, , ,, grid, , , ,
Point29,xy, , ,in, deg, , ,, , ,, grid, , , ,
Point30,xy, , ,in, deg, , ,, , ,, grid, , , ,
Projection Setup,,,,,,,,,,
Map Feature = MF ; Map Comment = MC These follow if they exist
Track File = TF These follow if they exist
Moving Map Parameters = MM? These follow if they exist
MM0,Yes
MMPNUM,4
MMPXY,1,0,0
MMPXY,2,3733,1
MMPXY,3,3699,3086
MMPXY,4,0,3089
MMPLL,1, -60.064851, -25.906841
MMPLL,2, -56.914964, -25.904022
MMPLL,3, -56.914911, -28.265650
MMPLL,4, -60.100587, -28.265559
MM1B,84.410882
MOP,Map Open Position,0,0
IWH,Map Image Width/Height,2500,1395
