OziExplorer Map Data File Version 2.2
G20r-PresidenteRoceSaensPenya.png
sg20-4.png
1 ,Map Code,
Pulkovo 1942 (1),, 0.0000, 0.0000,WGS 84
Reserved 1
Reserved 2
Magnetic Variation,,,E
Map Projection,Latitude/Longitude,PolyCal,Yes,AutoCalOnly,No,BSBUseWPX,No
Point01,xy, 66, 109,in, deg, 26, 0.0000,S, 63, 0.0000,W, grid, , , ,
Point02,xy, 1842, 106,in, deg, 26, 0.0000,S, 61, 30.0000,W, grid, , , ,
Point03,xy, 3620, 116,in, deg, 26, 0.0000,S, 60, 0.0000,W, grid, , , ,
Point04,xy, 82, 1416,in, deg, 27, 0.0000,S, 63, 0.0000,W, grid, , , ,
Point05,xy, 1843, 1410,in, deg, 27, 0.0000,S, 61, 30.0000,W, grid, , , ,
Point06,xy, 3604, 1422,in, deg, 27, 0.0000,S, 60, 0.0000,W, grid, , , ,
Point07,xy, 98, 2722,in, deg, 28, 0.0000,S, 63, 0.0000,W, grid, , , ,
Point08,xy, 1843, 2717,in, deg, 28, 0.0000,S, 61, 30.0000,W, grid, , , ,
Point09,xy, 3587, 2730,in, deg, 28, 0.0000,S, 60, 0.0000,W, grid, , , ,
Point10,xy, , ,in, deg, , ,, , ,, grid, , , ,
Point11,xy, , ,in, deg, , ,, , ,, grid, , , ,
Point12,xy, , ,in, deg, , ,, , ,, grid, , , ,
Point13,xy, , ,in, deg, , ,, , ,, grid, , , ,
Point14,xy, , ,in, deg, , ,, , ,, grid, , , ,
Point15,xy, , ,in, deg, , ,, , ,, grid, , , ,
Point16,xy, , ,in, deg, , ,, , ,, grid, , , ,
Point17,xy, , ,in, deg, , ,, , ,, grid, , , ,
Point18,xy, , ,in, deg, , ,, , ,, grid, , , ,
Point19,xy, , ,in, deg, , ,, , ,, grid, , , ,
Point20,xy, , ,in, deg, , ,, , ,, grid, , , ,
Point21,xy, , ,in, deg, , ,, , ,, grid, , , ,
Point22,xy, , ,in, deg, , ,, , ,, grid, , , ,
Point23,xy, , ,in, deg, , ,, , ,, grid, , , ,
Point24,xy, , ,in, deg, , ,, , ,, grid, , , ,
Point25,xy, , ,in, deg, , ,, , ,, grid, , , ,
Point26,xy, , ,in, deg, , ,, , ,, grid, , , ,
Point27,xy, , ,in, deg, , ,, , ,, grid, , , ,
Point28,xy, , ,in, deg, , ,, , ,, grid, , , ,
Point29,xy, , ,in, deg, , ,, , ,, grid, , , ,
Point30,xy, , ,in, deg, , ,, , ,, grid, , , ,
Projection Setup,,,,,,,,,,
Map Feature = MF ; Map Comment = MC These follow if they exist
Track File = TF These follow if they exist
Moving Map Parameters = MM? These follow if they exist
MM0,Yes
MMPNUM,4
MMPXY,1,0,0
MMPXY,2,3724,1
MMPXY,3,3683,3091
MMPXY,4,0,3083
MMPLL,1, -63.054164, -25.915467
MMPLL,2, -59.913310, -25.910769
MMPLL,3, -59.913488, -28.275467
MMPLL,4, -63.088294, -28.275515
MM1B,84.477723
MOP,Map Open Position,0,0
IWH,Map Image Width/Height,2500,1395
