OziExplorer Map Data File Version 2.2
G20B-Tukuman.png
sg20-3.png
1 ,Map Code,
Pulkovo 1942 (1),, 0.0000, 0.0000,WGS 84
Reserved 1
Reserved 2
Magnetic Variation,,,E
Map Projection,Latitude/Longitude,PolyCal,Yes,AutoCalOnly,No,BSBUseWPX,No
Point01,xy, 63, 111,in, deg, 26, 0.0000,S, 66, 0.0000,W, grid, , , ,
Point02,xy, 1840, 109,in, deg, 26, 0.0000,S, 64, 30.0000,W, grid, , , ,
Point03,xy, 3615, 122,in, deg, 26, 0.0000,S, 63, 0.0000,W, grid, , , ,
Point04,xy, 78, 1422,in, deg, 27, 0.0000,S, 66, 0.0000,W, grid, , , ,
Point05,xy, 1840, 1417,in, deg, 27, 0.0000,S, 64, 30.0000,W, grid, , , ,
Point06,xy, 3601, 1428,in, deg, 27, 0.0000,S, 63, 0.0000,W, grid, , , ,
Point07,xy, 96, 2731,in, deg, 28, 0.0000,S, 66, 0.0000,W, grid, , , ,
Point08,xy, 1843, 2724,in, deg, 28, 0.0000,S, 64, 30.0000,W, grid, , , ,
Point09,xy, 3585, 2736,in, deg, 28, 0.0000,S, 63, 0.0000,W, grid, , , ,
Point10,xy, , ,in, deg, , ,, , ,, grid, , , ,
Point11,xy, , ,in, deg, , ,, , ,, grid, , , ,
Point12,xy, , ,in, deg, , ,, , ,, grid, , , ,
Point13,xy, , ,in, deg, , ,, , ,, grid, , , ,
Point14,xy, , ,in, deg, , ,, , ,, grid, , , ,
Point15,xy, , ,in, deg, , ,, , ,, grid, , , ,
Point16,xy, , ,in, deg, , ,, , ,, grid, , , ,
Point17,xy, , ,in, deg, , ,, , ,, grid, , , ,
Point18,xy, , ,in, deg, , ,, , ,, grid, , , ,
Point19,xy, , ,in, deg, , ,, , ,, grid, , , ,
Point20,xy, , ,in, deg, , ,, , ,, grid, , , ,
Point21,xy, , ,in, deg, , ,, , ,, grid, , , ,
Point22,xy, , ,in, deg, , ,, , ,, grid, , , ,
Point23,xy, , ,in, deg, , ,, , ,, grid, , , ,
Point24,xy, , ,in, deg, , ,, , ,, grid, , , ,
Point25,xy, , ,in, deg, , ,, , ,, grid, , , ,
Point26,xy, , ,in, deg, , ,, , ,, grid, , , ,
Point27,xy, , ,in, deg, , ,, , ,, grid, , , ,
Point28,xy, , ,in, deg, , ,, , ,, grid, , , ,
Point29,xy, , ,in, deg, , ,, , ,, grid, , , ,
Point30,xy, , ,in, deg, , ,, , ,, grid, , , ,
Projection Setup,,,,,,,,,,
Map Feature = MF ; Map Comment = MC These follow if they exist
Track File = TF These follow if they exist
Moving Map Parameters = MM? These follow if they exist
MM0,Yes
MMPNUM,4
MMPXY,1,0,0
MMPXY,2,3720,0
MMPXY,3,3683,3093
MMPXY,4,0,3089
MMPLL,1, -66.051525, -25.914496
MMPLL,2, -62.912820, -25.905701
MMPLL,3, -62.912991, -28.273007
MMPLL,4, -66.086862, -28.272793
MM1B,84.310236
MOP,Map Open Position,0,0
IWH,Map Image Width/Height,2500,1395
