OziExplorer Map Data File Version 2.2
G20-b-MonteCemado.png
sg20-2.png
1 ,Map Code,
Pulkovo 1942 (1),, 0.0000, 0.0000,WGS 84
Reserved 1
Reserved 2
Magnetic Variation,,,E
Map Projection,Latitude/Longitude,PolyCal,Yes,AutoCalOnly,No,BSBUseWPX,No
Point01,xy, 65, 114,in, deg, 24, 0.0000,S, 63, 0.0000,W, grid, , , ,
Point02,xy, 1871, 106,in, deg, 24, 0.0000,S, 61, 30.0000,W, grid, , , ,
Point03,xy, 3679, 112,in, deg, 24, 0.0000,S, 60, 0.0000,W, grid, , , ,
Point04,xy, 82, 1422,in, deg, 25, 0.0000,S, 63, 0.0000,W, grid, , , ,
Point05,xy, 1873, 1417,in, deg, 25, 0.0000,S, 61, 30.0000,W, grid, , , ,
Point06,xy, 3666, 1421,in, deg, 25, 0.0000,S, 60, 0.0000,W, grid, , , ,
Point07,xy, 95, 2731,in, deg, 26, 0.0000,S, 63, 0.0000,W, grid, , , ,
Point08,xy, 1874, 2720,in, deg, 26, 0.0000,S, 61, 30.0000,W, grid, , , ,
Point09,xy, 3651, 2728,in, deg, 26, 0.0000,S, 60, 0.0000,W, grid, , , ,
Point10,xy, , ,in, deg, , ,, , ,, grid, , , ,
Point11,xy, , ,in, deg, , ,, , ,, grid, , , ,
Point12,xy, , ,in, deg, , ,, , ,, grid, , , ,
Point13,xy, , ,in, deg, , ,, , ,, grid, , , ,
Point14,xy, , ,in, deg, , ,, , ,, grid, , , ,
Point15,xy, , ,in, deg, , ,, , ,, grid, , , ,
Point16,xy, , ,in, deg, , ,, , ,, grid, , , ,
Point17,xy, , ,in, deg, , ,, , ,, grid, , , ,
Point18,xy, , ,in, deg, , ,, , ,, grid, , , ,
Point19,xy, , ,in, deg, , ,, , ,, grid, , , ,
Point20,xy, , ,in, deg, , ,, , ,, grid, , , ,
Point21,xy, , ,in, deg, , ,, , ,, grid, , , ,
Point22,xy, , ,in, deg, , ,, , ,, grid, , , ,
Point23,xy, , ,in, deg, , ,, , ,, grid, , , ,
Point24,xy, , ,in, deg, , ,, , ,, grid, , , ,
Point25,xy, , ,in, deg, , ,, , ,, grid, , , ,
Point26,xy, , ,in, deg, , ,, , ,, grid, , , ,
Point27,xy, , ,in, deg, , ,, , ,, grid, , , ,
Point28,xy, , ,in, deg, , ,, , ,, grid, , , ,
Point29,xy, , ,in, deg, , ,, , ,, grid, , , ,
Point30,xy, , ,in, deg, , ,, , ,, grid, , , ,
Projection Setup,,,,,,,,,,
Map Feature = MF ; Map Comment = MC These follow if they exist
Track File = TF These follow if they exist
Moving Map Parameters = MM? These follow if they exist
MM0,Yes
MMPNUM,4
MMPXY,1,0,0
MMPXY,2,3781,0
MMPXY,3,3746,3065
MMPXY,4,1,3067
MMPLL,1, -63.052613, -23.912848
MMPLL,2, -59.915893, -23.913775
MMPLL,3, -59.916384, -26.258285
MMPLL,4, -63.082793, -26.257697
MM1B,84.459185
MOP,Map Open Position,0,0
IWH,Map Image Width/Height,2500,1395
