OziExplorer Map Data File Version 2.2
G20A-Salita.png
sg20-1.png
1 ,Map Code,
Pulkovo 1942 (1),, 0.0000, 0.0000,WGS 84
Reserved 1
Reserved 2
Magnetic Variation,,,E
Map Projection,Latitude/Longitude,PolyCal,Yes,AutoCalOnly,No,BSBUseWPX,No
Point01,xy, 68, 120,in, deg, 24, 0.0000,S, 66, 0.0000,W, grid, , , ,
Point02,xy, 1875, 118,in, deg, 24, 0.0000,S, 64, 30.0000,W, grid, , , ,
Point03,xy, 3678, 128,in, deg, 24, 0.0000,S, 63, 0.0000,W, grid, , , ,
Point04,xy, 82, 1430,in, deg, 25, 0.0000,S, 66, 0.0000,W, grid, , , ,
Point05,xy, 1874, 1429,in, deg, 25, 0.0000,S, 64, 30.0000,W, grid, , , ,
Point06,xy, 3664, 1436,in, deg, 25, 0.0000,S, 63, 0.0000,W, grid, , , ,
Point07,xy, 96, 2739,in, deg, 26, 0.0000,S, 66, 0.0000,W, grid, , , ,
Point08,xy, 1875, 2736,in, deg, 26, 0.0000,S, 64, 30.0000,W, grid, , , ,
Point09,xy, 3648, 2741,in, deg, 26, 0.0000,S, 63, 0.0000,W, grid, , , ,
Point10,xy, , ,in, deg, , ,, , ,, grid, , , ,
Point11,xy, , ,in, deg, , ,, , ,, grid, , , ,
Point12,xy, , ,in, deg, , ,, , ,, grid, , , ,
Point13,xy, , ,in, deg, , ,, , ,, grid, , , ,
Point14,xy, , ,in, deg, , ,, , ,, grid, , , ,
Point15,xy, , ,in, deg, , ,, , ,, grid, , , ,
Point16,xy, , ,in, deg, , ,, , ,, grid, , , ,
Point17,xy, , ,in, deg, , ,, , ,, grid, , , ,
Point18,xy, , ,in, deg, , ,, , ,, grid, , , ,
Point19,xy, , ,in, deg, , ,, , ,, grid, , , ,
Point20,xy, , ,in, deg, , ,, , ,, grid, , , ,
Point21,xy, , ,in, deg, , ,, , ,, grid, , , ,
Point22,xy, , ,in, deg, , ,, , ,, grid, , , ,
Point23,xy, , ,in, deg, , ,, , ,, grid, , , ,
Point24,xy, , ,in, deg, , ,, , ,, grid, , , ,
Point25,xy, , ,in, deg, , ,, , ,, grid, , , ,
Point26,xy, , ,in, deg, , ,, , ,, grid, , , ,
Point27,xy, , ,in, deg, , ,, , ,, grid, , , ,
Point28,xy, , ,in, deg, , ,, , ,, grid, , , ,
Point29,xy, , ,in, deg, , ,, , ,, grid, , , ,
Point30,xy, , ,in, deg, , ,, , ,, grid, , , ,
Projection Setup,,,,,,,,,,
Map Feature = MF ; Map Comment = MC These follow if they exist
Track File = TF These follow if they exist
Moving Map Parameters = MM? These follow if they exist
MM0,Yes
MMPNUM,4
MMPXY,1,0,0
MMPXY,2,3782,0
MMPXY,3,3749,2815
MMPXY,4,0,2813
MMPLL,1, -66.055129, -23.908900
MMPLL,2, -62.914802, -23.901871
MMPLL,3, -62.914187, -26.055978
MMPLL,4, -66.081735, -26.056217
MM1B,84.257443
MOP,Map Open Position,0,0
IWH,Map Image Width/Height,2500,1395
