OziExplorer Map Data File Version 2.2
G19r-Andalgala.png
sg19-4.png
1 ,Map Code,
Pulkovo 1942 (1),, 0.0000, 0.0000,WGS 84
Reserved 1
Reserved 2
Magnetic Variation,,,E
Map Projection,Latitude/Longitude,PolyCal,Yes,AutoCalOnly,No,BSBUseWPX,No
Point01,xy, 80, 106,in, deg, 26, 0.0000,S, 69, 0.0000,W, grid, , , ,
Point02,xy, 1853, 120,in, deg, 26, 0.0000,S, 67, 30.0000,W, grid, , , ,
Point03,xy, 3629, 154,in, deg, 26, 0.0000,S, 66, 0.0000,W, grid, , , ,
Point04,xy, 81, 1415,in, deg, 27, 0.0000,S, 69, 0.0000,W, grid, , , ,
Point05,xy, 1840, 1429,in, deg, 27, 0.0000,S, 67, 30.0000,W, grid, , , ,
Point06,xy, 3600, 1460,in, deg, 27, 0.0000,S, 66, 0.0000,W, grid, , , ,
Point07,xy, 83, 2724,in, deg, 28, 0.0000,S, 69, 0.0000,W, grid, , , ,
Point08,xy, 1825, 2739,in, deg, 28, 0.0000,S, 67, 30.0000,W, grid, , , ,
Point09,xy, 3571, 2769,in, deg, 28, 0.0000,S, 66, 0.0000,W, grid, , , ,
Point10,xy, , ,in, deg, , ,, , ,, grid, , , ,
Point11,xy, , ,in, deg, , ,, , ,, grid, , , ,
Point12,xy, , ,in, deg, , ,, , ,, grid, , , ,
Point13,xy, , ,in, deg, , ,, , ,, grid, , , ,
Point14,xy, , ,in, deg, , ,, , ,, grid, , , ,
Point15,xy, , ,in, deg, , ,, , ,, grid, , , ,
Point16,xy, , ,in, deg, , ,, , ,, grid, , , ,
Point17,xy, , ,in, deg, , ,, , ,, grid, , , ,
Point18,xy, , ,in, deg, , ,, , ,, grid, , , ,
Point19,xy, , ,in, deg, , ,, , ,, grid, , , ,
Point20,xy, , ,in, deg, , ,, , ,, grid, , , ,
Point21,xy, , ,in, deg, , ,, , ,, grid, , , ,
Point22,xy, , ,in, deg, , ,, , ,, grid, , , ,
Point23,xy, , ,in, deg, , ,, , ,, grid, , , ,
Point24,xy, , ,in, deg, , ,, , ,, grid, , , ,
Point25,xy, , ,in, deg, , ,, , ,, grid, , , ,
Point26,xy, , ,in, deg, , ,, , ,, grid, , , ,
Point27,xy, , ,in, deg, , ,, , ,, grid, , , ,
Point28,xy, , ,in, deg, , ,, , ,, grid, , , ,
Point29,xy, , ,in, deg, , ,, , ,, grid, , , ,
Point30,xy, , ,in, deg, , ,, , ,, grid, , , ,
Projection Setup,,,,,,,,,,
Map Feature = MF ; Map Comment = MC These follow if they exist
Track File = TF These follow if they exist
Moving Map Parameters = MM? These follow if they exist
MM0,Yes
MMPNUM,4
MMPXY,1,0,0
MMPXY,2,3775,1
MMPXY,3,3701,3154
MMPXY,4,0,3106
MMPLL,1, -69.067441, -25.919320
MMPLL,2, -65.879818, -25.880858
MMPLL,3, -65.880573, -28.291476
MMPLL,4, -69.071675, -28.291062
MM1B,84.719228
MOP,Map Open Position,0,0
IWH,Map Image Width/Height,2500,1395
